Workbook
Name I9172.: [1]专家清理复核汇总4.23!$H:$H
Name 哦79: [2]重庆映射关系!$J$8
Name 哦79: [4]重庆映射关系!$J$8
Name 哦79: [4]重庆映射关系!$J$8
Name 哦79: [4]重庆映射关系!$J$8
Name 哦79: [4]重庆映射关系!$J$8

Sheet 附件1-消化系统类医疗服务价格项目表
A1: 附件1 | B1: 消化系统类医疗服务价格项目表（征求意见稿）
A2: 序号 | B2: 项目编码 | C2: 项目名称 | D2: 服务产出 | E2: 价格构成 | F2: 计价单位 | G2: 计价说明 | H2: 政府指导价 | L2: 医保属性 | M2: 医保支付限制 | N2: 归集口径
H3: 三级医院 | I3: 二级医院 | J3: 一级医院 | K3: 其他医疗机构（含基层医疗机构）
A4: 使用说明： 1.本类项目以消化系统为重点，按照消化系统相关医疗服务产出设立价格项目。 2.根据《深化医疗服务价格改革试点方案》（医保发〔2021〕41号）关于“厘清价格项目与临床诊疗技术规范、医疗机构成本要素、不同应用场景和收费标准等的政策边界分类整合现行价格项目，实现价格项目与操作步骤、诊疗部位等技术细节脱钩，增强现行价格项目对医疗技术和医疗活动改良创新的兼容性”的要求，服务产出相同的一类项目在操作层面存在差异，但在价格项目和定价水平层面具备合并同类项的条件，立项指南对此进行合并。所定价格属于政府指导价，为最高限价，下浮不限。同时，医疗机构申报的技术改良进步项目，可采取“现有项目兼容”方式简化处理，无需申报新增医疗服务价格项目，经向本地区医疗保障部门备案后可按照对应的项目执行。 3.本类项目所称“价格构成”，指项目价格应涵盖的各类资源消耗，用于确定计价单元的边界，不应作为临床技术标准理解，不是实际操作方式、路径、步骤、程序的强制性要求，价格构成中包含但临床实践中非必要、未发生的，无需强制要求公立医疗机构减计费用。所列“设备投入”包括但不限于操作设备、器具及固定资产投入。 4.本类项目所称“加收项”，指同一项目以不同方式提供或在不同场景应用时，确有必要制定差异化收费标准而细分的一类子项，包括在原项目价格基础上增加或减少收费的情况；实际应用中，同时涉及多个加收项的，以项目单价为基础计算相应的加/减收水平后，据实收费。 5.本类项目所称“扩展项”，指同一项目下以不同方式提供或在不同场景应用时，只扩展价格项目适用范围、不额外加价的一类子项，子项的价格按主项目执行。 6.本类项目所称“基本物质资源物耗”，指原则上限于不应或不必要与医疗服务项目分割的易耗品，包括但不限于各类消杀灭菌用品、储存用品、清洁用品、个人防护用品、垃圾处理用品、滑石粉、标签、防渗漏垫、中单、护（尿）垫、棉球、棉签、纱布（垫）、治疗护理盘（包）、治疗巾（单）、手术巾（单）、手术包、普通注射器、可复用的操作器具、非药品类对比剂、影像存储介质、铅制防护用品、标本采集存放用品、咬口器或牙垫、口/吹嘴、气体收集袋、肠道菌液制备用物或菌液制成品、染色剂、辅助试剂、肛门扩张器具、肛诊指套、圈套皮筋、挂线材料、报告打印耗材、软件（版权、开发、购买）成本等。基本物质资源消耗成本计入项目价格，不另行收费。除基本物质资源消耗以外的其他耗材，按照实际采购价格零差率销售。 7.本类项目中的“无创”为无需切开皮肤，经过自然腔道入路，利用无创入路方式进行的操作，包括但不限于食管镜、胃镜、十二指肠镜、结肠镜、小肠镜、直肠镜、胆管镜、胰管镜、超声内镜、共聚焦激光显微内镜等各类内镜。不包含因其他操作需求而涉及皮肤切开、组织切除等有创性操作内容。 8.本类项目中的“部位”为食管、胃、小肠、阑尾、盲肠、结肠、直肠、胆囊、胆管、胰腺、胰管等。 9.本类项目中消化内科内镜治疗或手术类项目，如需使用相关内镜可按内镜检查费用收取，如行消化内镜息肉去除时使用“内镜”，可收取“无创消化道息肉去除费+上消化道内镜检查费（常规）”。 10.本类项目中普通外科的各类手术项目的价格构成，已包含手术涉及的各类内镜使用成本。医疗机构在开展相关操作时，开放手术与经内镜手术执行相同的价格标准，内镜辅助操作不再另行收费。 11.本类项目价格构成中所称的“穿刺”为主项操作涉及的必要穿刺技术，价格构成中的穿刺操作不可收取相关费用；独立穿刺项目可按相应治疗价格项目收取。 12.本类项目中价格构成中所称的“止血”为压迫、填塞、包扎等常规止血方法，其他止血方式可收取相应费用。 13.本类项目中所称的“恶性肿瘤扩大根治性切除”，可参照各地省及省以上卫生健康部门技术规范中扩大根治性切除进行加收。 14.本类项目中涉及“包括……”“……等”的，属于开放型表述，所指对象不仅局限于表述中列明的事项，也包括未列明的同类事项。 15.本类项目中未尽事项，如等离子、激光、射频、微波等手术辅助操作等，将在辅助操作类、一般治疗类等其他立项指南中单独列示，暂按现行价格政策执行。 16.本类项目中其他学科开展相应项目时，可据实收费。 17.本类项目中的术中、治疗或检查过程中取活检样本已包含在本类项目价格构成中，不得按病理类医疗服务价格项目立项指南所列活检取材费计费。 18.本类项目中价格项目可应用人工智能辅助进行的，可直接按主项目收费，不同时收费。 19.公立医疗机构开展相关放射检查须提供符合要求的“数字影像处理和上传存储服务”并执行现行放射检查项目价格，对于不能提供符合要求的“数字影像处理和上传存储服务”的，执行的相关放射检查项目价格减收5元。 20.允许公立医疗机构在患者自愿选择基础上，若提供“数字胶片云储存服务”，可不再提供实体胶片。将减少实体胶片打印节约的成本，用于补偿数字胶片服务成本。医疗机构在常规提供影像资料后，如需额外提供影像资料，可收取相应费用。 21.本类项目所称的“儿童”，指6周岁及以下。本类项目儿童加收比例为主项目价格的20%。周岁的计算方法以法律的相关规定为准。
A5: 1 | B5: 012410000010000 | C5: 消化道pH值监测费 | D5: 通过各种方式监测消化道ph值。 | E5: 所定价格涵盖设备准备、插管、测定、撤除、数据提取分析、出具报告、处理用物等步骤所需的人力资源和基本物质资源消耗。（不含内镜操作） | F5: 次 | G5: 本项目中的“次”指：监测时长24小时，不足24小时按24小时计费。 | H5: 296.6 | I5: 269.6 | J5: 256.1 | K5: 242.6 | L5: =_xlfn.XLOOKUP(B5,[8]打印格式!$B$1:$B$65536,[8]打印格式!$H$1:$H$65536,) -> 乙类 | N5: 检查费
A6: 2 | B6: 012410000010001 | C6: 消化道pH值监测费-阻抗测定（加收） | F6: 次 | H6: 11.4 | I6: 10.4 | J6: 9.9 | K6: 9.4 | L6: =_xlfn.XLOOKUP(B6,[8]打印格式!$B$1:$B$65536,[8]打印格式!$H$1:$H$65536,) -> 乙类 | N6: 检查费
A7: 3 | B7: 012410000020000 | C7: 消化道压力测定费 | D7: 通过各种方式测定消化道压力。 | E7: 所定价格涵盖设备准备、插管、测定、撤除、数据提取分析、出具报告、处理用物等步骤所需的人力资源和基本物质资源消耗。（不含内镜操作） | F7: 项 | G7: 本类项目中的“消化道压力测定”指：食管测压、高分辨率食管测压、24小时食管动态测压、胃肠测压、24小时胃肠测压、胃幽门十二指肠测压、奥迪氏括约肌测压、结肠测压、肛门直肠测压、胆道测压等，以上不同测压按本项目收费，同一入路同一操作时间仅可计费1 次。 | H7: 142.7 | I7: 129.7 | J7: 123.2 | K7: 116.7 | L7: =_xlfn.XLOOKUP(B7,[8]打印格式!$B$1:$B$65536,[8]打印格式!$H$1:$H$65536,) -> 甲类 | N7: 检查费
A8: 4 | B8: 012410000030000 | C8: 胃肠电图检查费 | D8: 通过传导生物电，记录胃肠生物电活动并绘图，检查胃肠的蠕动情况及动力的强弱。 | E8: 所定价格涵盖设备准备、电极安放、记录、分析、出具报告、处理用物等步骤所需的人力资源和基本物质资源消耗。 | F8: 次 | H8: 167.9 | I8: 152.6 | J8: 145 | K8: 137.3 | L8: =_xlfn.XLOOKUP(B8,[8]打印格式!$B$1:$B$65536,[8]打印格式!$H$1:$H$65536,) -> 乙类 | N8: 检查费
A9: 5 | B9: 012410000040000 | C9: 呼气试验费（炎症检测） | D9: 测定呼出气体中特定气体的含量，判断气道炎症或全身炎症反应。 | E9: 所定价格涵盖设备准备、指导呼气、测定、分析、出具报告、处理用物等步骤所需的人力资源和基本物质资源消耗。 | F9: 次 | G9: 本项目中的“特定气体”指：一氧化氮。 | H9: 286 | I9: 260 | J9: 247 | K9: 234 | L9: =_xlfn.XLOOKUP(B9,[8]打印格式!$B$1:$B$65536,[8]打印格式!$H$1:$H$65536,) -> 自费 | N9: 检查费
A10: 6 | B10: 012410000050000 | C10: 呼气试验费（红细胞寿命检测） | D10: 测定呼出气体中特定气体的含量，判断红细胞寿命。 | E10: 所定价格涵盖设备准备、指导呼气、测定、分析、出具报告、处理用物等步骤所需的人力资源和基本物质资源消耗。 | F10: 次 | G10: 本项目中的“特定气体”指：一氧化碳。 | H10: 330 | I10: 300 | J10: 285 | K10: 270 | L10: =_xlfn.XLOOKUP(B10,[8]打印格式!$B$1:$B$65536,[8]打印格式!$H$1:$H$65536,) -> 自费 | N10: 检查费
A11: 7 | B11: 012410000060000 | C11: 呼气试验费（幽门螺旋杆菌检测） | D11: 通过测定呼出气体中标记同位素的含量，判断是否存在幽门螺杆菌感染。 | E11: 所定价格涵盖设备准备、指导呼气、采集气体、底物及服用、再次采集气体、测定、分析、出具报告、处理用物等步骤所需的人力资源和基本物质资源消耗。 | F11: 次 | H11: 103.8 | I11: 94.4 | J11: 89.7 | K11: 85 | L11: =_xlfn.XLOOKUP(B11,[8]打印格式!$B$1:$B$65536,[8]打印格式!$H$1:$H$65536,) -> 乙类 | N11: 检查费
A12: 8 | B12: 012410000070000 | C12: 呼气试验费（胃肠功能检测） | D12: 通过测定呼出气体中特定气体的含量，评估胃肠功能、小肠细菌过度生长。 | E12: 所定价格涵盖设备准备、底物及服用、指导呼气、多次采集气体、测定、分析、出具报告、处理用物等步骤所需的人力资源和基本物质资源消耗。 | F12: 项 | G12: 本项目中的“特定气体”指：氢气、甲烷、二氧化碳；其中氢气和甲烷的测定各计为1项，二氧化碳的测定不额外计费。 | H12: 195 | I12: 177.3 | J12: 168.4 | K12: 159.6 | L12: =_xlfn.XLOOKUP(B12,[8]打印格式!$B$1:$B$65536,[8]打印格式!$H$1:$H$65536,) -> 自费 | N12: 检查费
A13: 9 | B13: 012410000080000 | C13: 胃肠传输时间检查费 | D13: 根据标记物在消化道不同时间的分布情况，判断胃肠道动力。 | E13: 所定价格涵盖标记物准备、指导服用、拍片、数据处理、出具报告、处理用物等步骤所需的人力资源和基本物质资源消耗。 | F13: 次 | H13: 119.9 | I13: 109 | J13: 103.6 | K13: 98.1 | L13: =_xlfn.XLOOKUP(B13,[8]打印格式!$B$1:$B$65536,[8]打印格式!$H$1:$H$65536,) -> 甲类 | N13: 检查费
A14: 10 | B14: 012410000090000 | C14: 肝功能储备检查费 | D14: 通过监测特定状态下，肝脏对相关物质的滞留、排泄清除率，判断肝储备功能。 | E14: 所定价格涵盖准备、静脉注射、定时取血或探头监测含量、记录、计算、出具报告、处理用物等步骤所需的人力资源和基本物质资源消耗。 | F14: 次 | G14: 肝功能排泄试验按此收费。 | H14: 142.8 | I14: 129.8 | J14: 123.3 | K14: 116.8 | L14: =_xlfn.XLOOKUP(B14,[8]打印格式!$B$1:$B$65536,[8]打印格式!$H$1:$H$65536,) -> 乙类 | N14: 检查费
A15: 11 | B15: 013109000010000 | C15: 肠道菌群移植费 | D15: 收集并检测供者肠道样本制备菌液或菌制成品，通过消化道植入患者肠道。 | E15: 所定价格涵盖准备、供体筛查、采集、采集物检测、分离、制备、保存、植入、处理用物等步骤所需的人力资源和基本物质资源消耗。 | F15: 次 | G15: 需胃肠道内镜或置管辅助完成移植的，可收取“内镜检查”及“胃肠道置管”费用。 | H15: 1650 | I15: 1500 | J15: 1425 | K15: 1350 | L15: =_xlfn.XLOOKUP(B15,[8]打印格式!$B$1:$B$65536,[8]打印格式!$H$1:$H$65536,) -> 自费 | N15: 治疗费
A16: 12 | B16: 013109000020000 | C16: 腹水回输治疗费 | D16: 收集腹水，处理后回输患者进行治疗。 | E16: 所定价格涵盖准备、穿刺、置管、引流采集、过滤、回输、处理用物等步骤所需的人力资源和基本物质资源消耗。 | F16: 次 | H16: 386.2 | I16: 351.1 | J16: 333.5 | K16: 316 | L16: =_xlfn.XLOOKUP(B16,[8]打印格式!$B$1:$B$65536,[8]打印格式!$H$1:$H$65536,) -> 甲类 | N16: 治疗费
A17: 13 | B17: 013109000020100 | C17: 腹水回输治疗费-胸水回输治疗（扩展） | F17: 次 | H17: 386.2 | I17: 351.1 | J17: 333.5 | K17: 316 | L17: =_xlfn.XLOOKUP(B17,[8]打印格式!$B$1:$B$65536,[8]打印格式!$H$1:$H$65536,) -> 甲类 | N17: 治疗费
A18: 14 | B18: 013109000030000 | C18: 肠异位灌注整复费 | D18: 通过灌注复位肠套叠、肠扭转等各类异位情况。 | E18: 所定价格涵盖设备准备、灌注、观察、复位、处理用物等步骤所需的人力资源和基本物质资源消耗。（不含内镜操作） | F18: 次 | H18: 268 | I18: 243.6 | J18: 231.4 | K18: 219.2 | L18: =_xlfn.XLOOKUP(B18,[8]打印格式!$B$1:$B$65536,[8]打印格式!$H$1:$H$65536,) -> 乙类 | N18: 治疗费
A19: 15 | B19: 013109000030100 | C19: 肠异位灌注整复费-胃异位整复（扩展） | F19: 次 | H19: 268 | I19: 243.6 | J19: 231.4 | K19: 219.2 | L19: =_xlfn.XLOOKUP(B19,[8]打印格式!$B$1:$B$65536,[8]打印格式!$H$1:$H$65536,) -> 乙类 | N19: 治疗费
A20: 16 | B20: 012410000100000 | C20: 胶囊内镜检查费（非操控） | D20: 各类胶囊内镜借助消化道自身蠕动，无需外界干预，自然通过消化道完成检查。 | E20: 所定价格涵盖准备、指导吞服胶囊内镜、收集影像信息、出具报告、处理用物等步骤所需的人力资源和基本物质资源消耗。 | F20: 次 | H20: 3025 | I20: 2750 | J20: 2612.5 | K20: 2475 | L20: =_xlfn.XLOOKUP(B20,[8]打印格式!$B$1:$B$65536,[8]打印格式!$H$1:$H$65536,) -> 乙类 | N20: 检查费
A21: 17 | B21: 012410000110000 | C21: 胶囊内镜检查费（受操控） | D21: 医务人员以磁控等方式操作胶囊内镜，使其在受操控下通过消化道，实现定向定位检查。 | E21: 所定价格涵盖准备、指导吞服胶囊内镜、操控、收集影像信息、出具报告、处理用物等步骤所需的人力资源和基本物质资源消耗。 | F21: 次 | H21: 3630 | I21: 3300 | J21: 3135 | K21: 2970 | L21: =_xlfn.XLOOKUP(B21,[8]打印格式!$B$1:$B$65536,[8]打印格式!$H$1:$H$65536,) -> 乙类 | N21: 检查费
A22: 18 | B22: 012410000120000 | C22: 上消化道内镜检查费（常规） | D22: 通过消化道内镜观察和诊断上消化道的疾病。 | E22: 所定价格涵盖设备准备、体位摆放、入镜、观察、图像采集、撤镜、出具报告、处理用物等步骤所需的人力资源和基本物质资源消耗。 | F22: 次 | G22: 1.单次入路检查经过多个部位的，以最终到达的部位计费1次。 2.同时行放大、染色检查仅计费1次 3.“经皮经肝胆道镜检查”按“胆/胰管内镜检查”收费。 | H22: 189.8 | I22: 172.5 | J22: 163.9 | K22: 155.3 | L22: =_xlfn.XLOOKUP(B22,[8]打印格式!$B$1:$B$65536,[8]打印格式!$H$1:$H$65536,) -> 甲类 | N22: 检查费
A23: 19 | B23: 012410000120001 | C23: 上消化道内镜检查费（常规）-单气囊小肠镜（加收） | F23: 次 | H23: 1200 | I23: 1090.9 | J23: 1036.4 | K23: 981.8 | L23: =_xlfn.XLOOKUP(B23,[8]打印格式!$B$1:$B$65536,[8]打印格式!$H$1:$H$65536,) -> 自费 | N23: 检查费
A24: 20 | B24: 012410000120002 | C24: 上消化道内镜检查费（常规）-双气囊小肠镜（加收） | F24: 次 | H24: 4219 | I24: 3835.5 | J24: 3643.7 | K24: 3451.9 | L24: =_xlfn.XLOOKUP(B24,[8]打印格式!$B$1:$B$65536,[8]打印格式!$H$1:$H$65536,) -> 甲类 | N24: 检查费
A25: 21 | B25: 012410000120003 | C25: 上消化道内镜检查费（常规）-胆/胰管内镜检查（加收） | F25: 次 | H25: 204 | I25: 185.5 | J25: 176.2 | K25: 166.9 | L25: =_xlfn.XLOOKUP(B25,[8]打印格式!$B$1:$B$65536,[8]打印格式!$H$1:$H$65536,) -> 甲类 | N25: 检查费
A26: 22 | B26: 012410000120004 | C26: 上消化道内镜检查费（常规）-胆/胰管内镜子镜检查（加收） | F26: 次 | H26: 2010.2 | I26: 1827.5 | J26: 1736.1 | K26: 1644.7 | L26: =_xlfn.XLOOKUP(B26,[8]打印格式!$B$1:$B$65536,[8]打印格式!$H$1:$H$65536,) -> 自费 | N26: 检查费
A27: 23 | B27: 012410000120011 | C27: 上消化道内镜检查费（常规）-放大/染色检查（加收） | F27: 次 | H27: 178.4 | I27: 162.2 | J27: 154.1 | K27: 146 | L27: =_xlfn.XLOOKUP(B27,[8]打印格式!$B$1:$B$65536,[8]打印格式!$H$1:$H$65536,) -> 乙类 | N27: 检查费
A28: 24 | B28: 012410000130000 | C28: 下消化道内镜检查费（常规） | D28: 通过消化道内镜观察和诊断下消化道的疾病。 | E28: 所定价格涵盖设备准备、体位摆放、入镜、观察、图像采集、撤镜、出具报告、处理用物等步骤所需的人力资源和基本物质资源消耗。 | F28: 次 | G28: 1.单次入路检查经过多个部位的，以最终到达的部位计费1次。 2.同时行放大、染色检查仅计费1次。 | H28: 228.6 | I28: 207.8 | J28: 197.4 | K28: 187 | L28: =_xlfn.XLOOKUP(B28,[8]打印格式!$B$1:$B$65536,[8]打印格式!$H$1:$H$65536,) -> 甲类 | N28: 检查费
A29: 25 | B29: 012410000130001 | C29: 下消化道内镜检查费（常规）-单气囊小肠镜（加收） | F29: 次 | H29: 1200 | I29: 1090.9 | J29: 1036.4 | K29: 981.8 | L29: =_xlfn.XLOOKUP(B29,[8]打印格式!$B$1:$B$65536,[8]打印格式!$H$1:$H$65536,) -> 自费 | N29: 检查费
A30: 26 | B30: 012410000130002 | C30: 下消化道内镜检查费（常规）-双气囊小肠镜（加收） | F30: 次 | H30: 4180.2 | I30: 3800.2 | J30: 3610.2 | K30: 3420.2 | L30: =_xlfn.XLOOKUP(B30,[8]打印格式!$B$1:$B$65536,[8]打印格式!$H$1:$H$65536,) -> 甲类 | N30: 检查费
A31: 27 | B31: 012410000130011 | C31: 下消化道内镜检查费（常规）-放大/染色检查（加收） | F31: 次 | H31: 178.4 | I31: 162.2 | J31: 154.1 | K31: 146 | L31: =_xlfn.XLOOKUP(B31,[8]打印格式!$B$1:$B$65536,[8]打印格式!$H$1:$H$65536,) -> 乙类 | N31: 检查费
A32: 28 | B32: 012410000140000 | C32: 上消化道内镜检查费（超声内镜） | D32: 通过微探头、环扫 、线阵式等不同消化道超声内镜观察和诊断疾病。 | E32: 所定价格涵盖设备准备、体位摆放、入镜、观察、图像采集、撤镜、出具报告、处理用物等步骤所需的人力资源和基本物质资源消耗。 | F32: 次 | G32: 单次入路检查经过多个部位的，以最终到达的部位计费1次。 | H32: 536.8 | I32: 488 | J32: 463.6 | K32: 439.2 | L32: =_xlfn.XLOOKUP(B32,[8]打印格式!$B$1:$B$65536,[8]打印格式!$H$1:$H$65536,) -> 自费 | N32: 检查费
A33: 29 | B33: 012410000140001 | C33: 上消化道内镜检查费（超声内镜）-胆/胰超声内镜检查（加收） | F33: 次 | H33: 283 | I33: 257.3 | J33: 244.4 | K33: 231.6 | L33: =_xlfn.XLOOKUP(B33,[8]打印格式!$B$1:$B$65536,[8]打印格式!$H$1:$H$65536,) -> 自费 | N33: 检查费
A34: 30 | B34: 012410000150000 | C34: 下消化道内镜检查费（超声内镜） | D34: 通过微探头、环扫 、线阵式等不同消化道超声内镜观察和诊断疾病。 | E34: 所定价格涵盖设备准备、体位摆放、入镜、观察、图像采集、撤镜、出具报告、处理用物等步骤所需的人力资源和基本物质资源消耗。 | F34: 次 | G34: 单次入路检查经过多个部位的，以最终到达的部位计费1次。 | H34: 536.8 | I34: 488 | J34: 463.6 | K34: 439.2 | L34: =_xlfn.XLOOKUP(B34,[8]打印格式!$B$1:$B$65536,[8]打印格式!$H$1:$H$65536,) -> 自费 | N34: 检查费
A35: 31 | B35: 012410000160000 | C35: 上消化道内镜检查费（共聚焦激光显微内镜） | D35: 通过共聚焦激光显微内镜观察和诊断上消化道的疾病。 | E35: 所定价格涵盖设备准备、体位摆放、应用对比剂（静脉或喷涂）、入镜、观察、图像采集、撤镜、处理用物等步骤所需的人力资源和基本物质资源消耗。 | F35: 次 | G35: 1.单次入路检查经过多个部位的，以最终到达的部位计费1次。 2.超声内镜引导针基共聚焦激光显微内镜行胆/胰检查时，可收取“上消化道内镜检查费（超声内镜）-胆/胰超声内镜检查（加收）”及“上消化道内镜检查费（共聚焦激光显微内镜）”。 | H35: 1550 | I35: 1409.1 | J35: 1338.6 | K35: 1268.2 | L35: =_xlfn.XLOOKUP(B35,[8]打印格式!$B$1:$B$65536,[8]打印格式!$H$1:$H$65536,) -> 自费 | N35: 检查费
A36: 32 | B36: 012410000170000 | C36: 下消化道内镜检查费（共聚焦激光显微内镜） | D36: 通过共聚焦激光显微内镜观察和诊断下消化道的疾病。 | E36: 所定价格涵盖设备准备、体位摆放、应用对比剂（静脉或喷涂）、入镜、观察、图像采集、撤镜、处理用物等步骤所需的人力资源和基本物质资源消耗。 | F36: 次 | G36: 单次入路检查经过多个部位的，以最终到达的部位计费1次。 | H36: 2000 | I36: 1818.2 | J36: 1727.3 | K36: 1636.4 | L36: =_xlfn.XLOOKUP(B36,[8]打印格式!$B$1:$B$65536,[8]打印格式!$H$1:$H$65536,) -> 自费 | N36: 检查费
A37: 33 | B37: 012301010050000 | C37: 无创逆行胰胆管造影费 | D37: 通过无创操作，将导管插入胆管和（或）胰管内进行造影。 | E37: 所定价格涵盖准备、置管、注入对比剂、摄取成像、撤除、出具报告、数字影像处理与上传存储（含数字方式）、处理用物等步骤所需的人力资源、设备运转成本和基本物质资源消耗。（不含内镜检查） | F37: 次 | H37: 275 | I37: 250 | J37: 237.5 | K37: 225 | L37: =_xlfn.XLOOKUP(B37,[8]打印格式!$B$1:$B$65536,[8]打印格式!$H$1:$H$65536,) -> 乙类 | N37: 检查费
A38: 34 | B38: 012301010060000 | C38: 经皮经肝胆管造影费 | D38: 通过经皮经肝穿刺胆管造影。 | E38: 所定价格涵盖准备、穿刺、置管、注入对比剂、摄取成像、撤除、出具报告、数字影像处理与上传存储（含数字方式）、处理用物等步骤所需的人力资源、设备运转成本和基本物质资源消耗。 | F38: 次 | H38: 220 | I38: 200 | J38: 190 | K38: 180 | L38: =_xlfn.XLOOKUP(B38,[8]打印格式!$B$1:$B$65536,[8]打印格式!$H$1:$H$65536,) -> 乙类 | N38: 检查费
A39: 35 | B39: 013109000040000 | C39: 经皮经肝穿刺胆管外引流费 | D39: 经皮经肝穿刺胆管并置入引流管，实现外引流。 | E39: 所定价格涵盖设备准备、体位摆放、穿刺、观察、必要时扩张、置管、引流、处理用物等步骤所需的人力资源、设备运转成本和基本物质资源消耗。 （不含内镜检查和经皮经肝胆管造影） | F39: 次 | H39: 495 | I39: 450 | J39: 427.5 | K39: 405 | L39: =_xlfn.XLOOKUP(B39,[8]打印格式!$B$1:$B$65536,[8]打印格式!$H$1:$H$65536,) -> 甲类 | N39: 治疗费
A40: 36 | B40: 013109000040100 | C40: 经皮经肝穿刺胆管外引流费-经皮经肝穿刺胆囊外引流费（扩展） | F40: 次 | H40: 495 | I40: 450 | J40: 427.5 | K40: 405 | L40: =_xlfn.XLOOKUP(B40,[8]打印格式!$B$1:$B$65536,[8]打印格式!$H$1:$H$65536,) -> 甲类 | N40: 治疗费
...

Sheet 附件2-拟停用消化系统类医疗服务价格项目表
A1: 附件2 | B1: 拟停用消化系统类医疗服务价格项目表（征求意见稿）
A3: 序号 | B3: 项目编码 | C3: 项目名称 | D3: 医保结算编码
A4: 1 | B4: 230500014 | C4: 14碳呼气试验 | D4: 002305000140000-230500014
A5: 2 | B5: 230500014.10 | C5: 14碳呼气试验(各类呼气试验) | D5: 002305000140000-230500014.10
A6: 3 | B6: 250101023 | C6: 呼气内源性CO分析 | D6: 003106010130000-250101023
A7: 4 | B7: 250403079 | C7: 13碳尿素呼气试验 | D7: 002504030790000-250403079
A8: 5 | B8: 3109 | C8: 9.消化系统
A9: 6 | B9: 3109.01 | C9: 消化系统(使用电子镜加收) | D9: 503300000010000-3109.01
A10: 7 | B10: 310901 | C10: 食管诊疗
A11: 8 | B11: 310901001 | C11: 食管测压 | D11: 003109010010000-310901001
A12: 9 | B12: 310901003 | C12: 硬性食管镜检查 | D12: 003109010030000-310901003
A13: 10 | B13: 310901004 | C13: 纤维食管镜检查 | D13: 003109010040000-310901004
A14: 11 | B14: 310901005 | C14: 经食管镜取异物 | D14: 003109010050000-310901005
A15: 12 | B15: 310901005.01 | C15: 经食管镜取异物(穿刺食道壁加收) | D15: 003109010050000-310901005.01
A16: 13 | B16: 310901006 | C16: 食管腔内支架置入术 | D16: 003109010060000-310901006
A17: 14 | B17: 310901006.10 | C17: 食管腔内支架置入术(内镜下置入) | D17: 003109010060100-310901006.10
A18: 15 | B18: 310901006.20 | C18: 食管腔内支架置入术(透视下置入) | D18: 003109010060200-310901006.20
A19: 16 | B19: 310901006.30 | C19: 食管腔内支架置入术(取出支架) | D19: 003109010060300-310901006.30
A20: 17 | B20: 310901007 | C20: 经胃镜食管静脉曲张治疗 | D20: 003109010070000-310901007
A21: 18 | B21: 310901007.10 | C21: 经胃镜食管静脉曲张治疗(硬化) | D21: 003109010070100-310901007.10
A22: 19 | B22: 310901007.20 | C22: 经胃镜食管静脉曲张治疗(套扎) | D22: 003109010070200-310901007.20
... A34: 31 | B34: 310901008.80 | C34: 食管狭窄扩张术(十二指肠狭窄扩张术) | D34: 003109010080700-310901008.80
A35: 32 | B35: 310902 | C35: 胃肠道诊疗
A36: 33 | B36: 310902001 | C36: 胃肠电图 | D36: 003109020010000-310902001
A37: 34 | B37: 310902001.01 | C37: 胃肠电图(动态胃电图加收) | D37: 003109020010001-310902001.01
A38: 35 | B38: 310902002 | C38: 24小时动态胃酸监测 | D38: 003109020020000-310902002
A39: 36 | B39: 310902002.01 | C39: 24小时动态胃酸监测(瞬间胃酸监测收取) | D39: 003109020020000-310902002.01
A40: 37 | B40: 310902003 | C40: 胃幽门十二指肠压力测定 | D40: 003109020030000-310902003
A41: 38 | B41: 310902004 | C41: 24小时胃肠压力测定 | D41: 003109020040000-310902004
A42: 39 | B42: 310902005 | C42: 纤维胃十二指肠镜检查 | D42: 003109020050000-310902005
A43: 40 | B43: 310902006 | C43: 经胃镜特殊治疗 | D43: 003109020060000-310902006
A44: 41 | B44: 310902006.01 | C44: 经胃镜特殊治疗(激光法加收) | D44: 003109020060000-310902006.01
A45: 42 | B45: 310902006.02 | C45: 经胃镜特殊治疗(微波法加收) | D45: 003109020060000-310902006.02
A46: 43 | B46: 310902006.03 | C46: 经胃镜特殊治疗(电切、射频、氩气刀法每次加收) | D46: 003109020060000-310902006.03
A47: 44 | B47: 310902006.04 | C47: 经胃镜特殊治疗(出血点每增加一个加收) | D47: 003109020060000-310902006.04
... A70: 67 | B70: 310902011 | C70: 肠道菌群移植 | D70: 503109050470000-310902011
A71: 68 | B71: 310903 | C71: 十二指肠、小肠、结肠治疗
A72: 69 | B72: 310903002 | C72: 奥迪氏括约肌压力测定 | D72: 003109030020000-310903002
A73: 70 | B73: 310903003 | C73: 经十二指肠镜胆道结石取出术 | D73: 003109030030000-310903003
A74: 71 | B74: 310903003.10 | C74: 经十二指肠镜胆道结石取出术(取异物) | D74: 003109030030100-310903003.10
...

Sheet 附件3-消化系统类立项指南项目映射关系表
A1: 附件3 | B1: 消化系统类立项指南项目映射关系表
A2: 序号 | B2: 项目名称 | C2: 计价单位 | D2: 计价说明 | E2: 医保医疗服务项目分类与代码 | I2: 映射现行重庆项目 | M2: 《全国医疗服务项目技术规范（2023年版）》
E3: 同主项目/扩展项/加收项收取 | G3: 纳入价格构成 | I3: 同主项目/扩展项/加收项收取 | K3: 纳入价格构成 | M3: 同主项目/扩展项/加收项收取 | O3: 纳入价格构成
E4: 项目编码 | F4: 项目名称 | G4: 项目编码 | H4: 项目名称 | I4: 项目编码 | J4: 项目名称 | K4: 项目编码 | L4: 项目名称 | M4: 项目编码 | N4: 项目名称 | O4: 项目编码 | P4: 项目名称
A5: 1 | B5: 消化道pH值监测费 | C5: 次 | D5: 本项目中的“次”指：监测时长24小时，不足24小时按24小时计费。 | E5: 3109020020000 | F5: 24小时动态胃酸监测 | I5: 310902002 310902002.01 | J5: 24小时动态胃酸监测 24小时动态胃酸监测(瞬间胃酸监测收取) | M5: FPB1E401 | N5: 24小时食管/胃pH监测
A6: 2 | B6: 消化道pH值监测费-阻抗测定（加收） | C6: 次 | I6: FPB05403 | J6: 24小时食道阻抗及pH联合监测 | M6: FPC1E401 | N6: 24小时食管多通道阻抗监测
A7: 3 | B7: 消化道压力测定费 | C7: 项 | D7: 本类项目中的“消化道压力测定”指：食管测压、高分辨率食管测压、24小时食管动态测压、胃肠测压、24小时胃肠测压、胃幽门十二指肠测压、奥迪氏括约肌测压、结肠测压、肛门直肠测压、胆道测压等，以上不同测压按本项目收费，同一入路同一操作时间仅可计费1 次。 | E7: 3109040020000 3109010010000 3109010010001 3109020040000 3109030020000 3109020030000 | F7: 肛门直肠测压 食管测压 食管测压（部分测压） 24小时胃肠压力测定 奥迪氏括约肌压力测定 胃幽门十二指肠压力测定 | I7: 310904002 310901001 310904009 310902003 310902004 310903002 | J7: 肛门直肠测压 食管测压 高分辨率肛门直肠测压 胃幽门十二指肠压力测定 24小时胃肠压力测定 奥迪氏括约肌压力测定 | M7: FPB1C401 FPB1C402 FPC1C402 FPS1C701 FPV1C401 FPK1C601 FPC1C401 | N7: 胃-幽门-十二指肠压力测定 24小时食管动态压力测定 儿童食管压力测定 结肠压力测定 肛门直肠压力测定 经内镜奥迪括约肌压力测定 高分辨率食管压力测定
A8: 4 | B8: 胃肠电图检查费 | C8: 次 | E8: 3109020010000 3109020010001 3109020010002 | F8: 胃肠电图 胃肠电图（动态胃电图加收） 胃肠电图（导纳式胃动力检测加收） | I8: 310902001 310904005 | J8: 胃肠电图 肛直肠肌电测量 | K8: 3.10902e+08 | L8: 胃肠电图(动态胃电图加收) | M8: FPD1A701 | N8: 胃电图检查
A9: 5 | B9: 呼气试验费（炎症检测） | C9: 次 | D9: 本项目中的“特定气体”指：一氧化氮。 | E9: 3106010130000 | F9: 一氧化氮呼气测定 | I9: FJE02407 | J9: 呼出气一氧化氮测定 | M9: FJE1C408 | N9: 呼出气一氧化氮测定(FeNO)
A10: 6 | B10: 呼气试验费（红细胞寿命检测） | C10: 次 | D10: 本项目中的“特定气体”指：一氧化碳。 | I10: 250101023 | J10: 呼气内源性CO分析
A11: 7 | B11: 呼气试验费（幽门螺旋杆菌检测） | C11: 次 | E11: 2504030790000 2305000140000 | F11: 13碳尿素呼气试验 14碳呼气试验 | I11: 250403079 230500014 230500014.10 | J11: 13碳尿素呼气试验 14碳呼气试验 14碳呼气试验(各类呼气试验) | M11: CGP09001 CGP10001 EEGPD001 | N11: 碳13尿素呼气试验 碳14尿素呼气试验 尿素呼气试验
A12: 8 | B12: 呼气试验费（胃肠功能检测） | C12: 项 | D12: 本项目中的“特定气体”指：氢气、甲烷、二氧化碳；其中氢气和甲烷的测定各计为1项，二氧化碳的测定不额外计费。 | I12: 新增 | M12: FPA1D701 | N12: 乳果糖氢呼气试验
A13: 9 | B13: 胃肠传输时间检查费 | C13: 次 | I13: 210103014 | J13: 胃肠排空试验 | M13: FPA1C401 | N13: 胃肠传输时间检测
A14: 10 | B14: 肝功能储备检查费 | C14: 次 | D14: 肝功能排泄试验按此收费。 | I14: 310905026 310905026.10 | J14: 吲哚箐绿(ICG)肝脏储备功能分析 吲哚箐绿(ICG)肝脏储备功能分析((DDG)肝脏储备功能测定) | K14: 3.1090503e+08 | L14: 吲哚箐绿(ICG)肝脏储备功能分析((DDG)肝脏储备功能测定加收) | M14: FQA1C201 | N14: 肝储备功能测定
A15: 11 | B15: 肠道菌群移植费 | C15: 次 | D15: 需胃肠道内镜或置管辅助完成移植的，可收取“内镜检查”及“胃肠道置管”费用。 | I15: 310902011 | J15: 肠道菌群移植 | M15: KPH3M401 | N15: 肠道菌群移植
A16: 12 | B16: 腹水回输治疗费 | C16: 次 | E16: 3109050020000 3109050020001 | F16: 腹水直接回输治疗 腹水直接回输治疗（超滤回输加收） | I16: 310905002 | J16: 腹水直接回输治疗 | K16: 310905002.01 | L16: 腹水直接回输治疗(超滤回输加收) | M16: KQT3L101 KQT3M101 | N16: 腹水超滤间接回输治疗 腹水直接回输治疗
A17: 13 | B17: 腹水回输治疗费-胸水回输治疗（扩展） | C17: 次
A18: 14 | B18: 肠异位灌注整复费 | C18: 次 | E18: 3109030130000 | F18: 肠套叠充气造影及整复 | I18: 310903013 310903012 310903012.10 310903014 | J18: 肠套叠充气造影及整复 肠套叠手法复位 肠套叠手法复位(嵌顿疝手法复位) 超声引导下肠套叠水压控制灌肠整复术 | M18: KPH3H401 KPH3H701 KPH3H702 | N18: 肠套叠充气整复 肠套叠手法复位 嵌顿疝手法复位
A19: 15 | B19: 肠异位灌注整复费-胃异位整复（扩展） | C19: 次
A20: 16 | B20: 胶囊内镜检查费（非操控） | C20: 次 | E20: 3109030140000 | F20: 胶囊内镜检查 | I20: FPA01604 | J20: 胶囊内镜检查 | M20: FPA1A602 | N20: 胶囊内镜检查
A21: 17 | B21: 胶囊内镜检查费（受操控） | C21: 次 | I21: 新增
A22: 18 | B22: 上消化道内镜检查费（常规） | C22: 次 | D22: 1.单次入路检查经过多个部位的，以最终到达的部位计费1次。 2.同时行放大、染色检查仅计费1次 3.“经皮经肝胆道镜检查”按“胆/胰管内镜检查”收费。 | E22: 3109010030000 3109010040000 3109010040001 3109020050000 3109020050001 | F22: 硬性食管镜检查 纤维食管镜检查 纤维食管镜检查（电子镜加收） 纤维胃十二指肠镜检查 纤维胃十二指肠镜检查（电子镜加收） | I22: 310901003 310901004 310902005 | J22: 硬性食管镜检查 纤维食管镜检查 纤维胃十二指肠镜检查 | K22: 3109.01 220800008.10 | L22: 消化系统(使用电子镜加收) 超声计算机图文报告(窥镜图象报告) | M22: FPB1A603 FPB1A604 FPC1A601 FPC1A602 FPD1C601 | N22: 胃镜检查 经鼻胃镜检查 硬质食管镜食管检查 硬质食管内镜食管检查 经内镜胃黏膜血流量测定
A23: 19 | B23: 上消化道内镜检查费（常规）-单气囊小肠镜（加收） | C23: 次
A24: 20 | B24: 上消化道内镜检查费（常规）-双气囊小肠镜（加收） | C24: 次 | I24: 310903004 | J24: 小肠镜检查 | K24: 2.2080001e+08 | L24: 超声计算机图文报告(窥镜图象报告)
A25: 21 | B25: 上消化道内镜检查费（常规）-胆/胰管内镜检查（加收） | C25: 次 | E25: 3109050060000 3109050060001 | F25: 胆道镜检查 胆道镜检查（超选择造影加收） | I25: 310905006 | J25: 胆道镜检查 | K25: 310905006.01 | L25: 胆道镜检查(超选择造影加收) | M25: FQE1A101 | N25: 经皮经肝胆道镜检查
A26: 22 | B26: 上消化道内镜检查费（常规）-胆/胰管内镜子镜检查（加收） | C26: 次 | E26: 3109050300000 | F26: 经口电子胰管镜检查 | I26: 310905031 | J26: 经口电子胆管镜检查 | M26: FQE1A602 | N26: 经口胆胰管镜检查
A27: 23 | B27: 上消化道内镜检查费（常规）-放大/染色检查（加收） | C27: 次 | E27: 3109050260000 | F27: 内镜色素检查 | I27: FPA01603 | J27: 内镜色素检查 | M27: FPA1A601 FPA1A603 | N27: 上消化道内镜色素检查 上消化道图像增强内镜检查
A28: 24 | B28: 下消化道内镜检查费（常规） | C28: 次 | D28: 1.单次入路检查经过多个部位的，以最终到达的部位计费1次。 2.同时行放大、染色检查仅计费1次。 | E28: 3109040010000 3109030060000 3109030060001 3109030050000 3109030050001 | F28: 直肠镜检查 乙状结肠镜检查 乙状结肠镜检查（电子镜加收） 纤维结肠镜检查 纤维结肠镜检查（电子镜加收） | I28: 310904001 310903006 310903005 | J28: 直肠镜检查 乙状结肠镜检查 纤维结肠镜检查 | K28: 3109.01 220800008.10 | L28: 消化系统(使用电子镜加收) 超声计算机图文报告(窥镜图象报告) | M28: FQE1A601 FPS1A601 FPT1A601 FPU1A601 | N28: 经瘘管胆道镜检查 结肠镜检查 乙状结肠镜检查 直肠镜检查
A29: 25 | B29: 下消化道内镜检查费（常规）-单气囊小肠镜（加收） | C29: 次 | E29: 3109030040000 3109030040001 | F29: 小肠镜检查 小肠镜检查（使用电子镜检查 | M29: FPJ1A602 FPJ1A601 | N29: 气囊辅助小肠镜检查 推进式小肠镜检查
A30: 26 | B30: 下消化道内镜检查费（常规）-双气囊小肠镜（加收） | C30: 次 | E30: 3109030040002 | F30: 小肠镜检查（使用双气囊小肠镜） | I30: 310903004 | J30: 小肠镜检查 | K30: 2.2080001e+08 | L30: 超声计算机图文报告(窥镜图象报告) | M30: FPJ1A602 FPJ1A601 | N30: 气囊辅助小肠镜检查 推进式小肠镜检查
A31: 27 | B31: 下消化道内镜检查费（常规）-放大/染色检查（加收） | C31: 次 | E31: 3109050260000 | F31: 内镜色素检查 | I31: FPA01603 | J31: 内镜色素检查 | M31: FPA1A604 FPA1A605 FPA1A606 | N31: 结直肠图像增强内镜检查 结直肠内镜色素检查 小肠内镜色素检查
A32: 28 | B32: 上消化道内镜检查费（超声内镜） | C32: 次 | D32: 单次入路检查经过多个部位的，以最终到达的部位计费1次。 | E32: 3109020090000 3109050240000 3109050240001 3109050240100 | F32: 超声胃镜检查术 经内镜胆管内超声检查术 经内镜胆管内超声检查术（治疗酌情加收） 经内镜胰管腔内超声检查 | I32: 310902009 | J32: 超声胃镜检查术 | K32: 220800008.10 | L32: 超声计算机图文报告(窥镜图象报告) | M32: FPA1A609 FPB1A602 FPB1A605 FPA1A608 FPB1K602 | N32: 经超声内镜经穿刺针囊腔内镜检查 经内镜超声微探头上消化道检查 超声胃镜检查 经超声内镜经穿刺针共聚焦激光显微内镜检查 超声内镜引导下穿刺针吸细胞及组织学检查
A33: 29 | B33: 上消化道内镜检查费（超声内镜）-胆/胰超声内镜检查（加收） | C33: 次 | I33: 310905024 | J33: 经内镜胆管内超声检查术 | M33: FQP1A601 | N33: 经内镜胆胰管腔内超声检查
A34: 30 | B34: 下消化道内镜检查费（超声内镜） | C34: 次 | D34: 单次入路检查经过多个部位的，以最终到达的部位计费1次。 | I34: 310902009.10 | J34: 超声胃镜检查术(超声肠镜检查术) | K34: 220800008.10 | L34: 超声计算机图文报告(窥镜图象报告) | M34: FPS1A602 FPU1A602 FPA1A609 FPB1K602 | N34: 超声结肠镜检查 经内镜超声微探头结直肠检查 经超声内镜经穿刺针囊腔内镜检查 超声内镜引导下穿刺针吸细胞及组织学检查
A35: 31 | B35: 上消化道内镜检查费（共聚焦激光显微内镜） | C35: 次 | D35: 1.单次入路检查经过多个部位的，以最终到达的部位计费1次。 2.超声内镜引导针基共聚焦激光显微内镜行胆/胰检查时，可收取“上消化道内镜检查费（超声内镜）-胆/胰超声内镜检查（加收）”及“上消化道内镜检查费（共聚焦激光显微内镜）”。 | I35: 310903016 | J35: 共聚焦激光显微内镜消化道检查 | M35: FPA1A607 FPB1A601 FPA1A608 | N35: 探头式共聚焦激光显微内镜检查 上消化道共聚焦激光显微内镜检查 经超声内镜经穿刺针共聚焦激光显微内镜检查
A36: 32 | B36: 下消化道内镜检查费（共聚焦激光显微内镜） | C36: 次 | D36: 单次入路检查经过多个部位的，以最终到达的部位计费1次。 | I36: 映射关系同“上消化道内镜检查费（共聚焦激光显微内镜）” | M36: FPN1A601 FPA1A607 FPA1A608 | N36: 结直肠共聚焦激光显微内镜检查 探头式共聚焦激光显微内镜检查 经超声内镜经穿刺针共聚焦激光显微内镜检查
A37: 33 | B37: 无创逆行胰胆管造影费 | C37: 次 | E37: 2101030210000 | F37: 经内镜逆行胰胆管造影（ERCP） | I37: 210103021 | J37: 经内镜逆行胰胆管造影(ERCP) | M37: EACQP001 | N37: 经内镜逆行胰胆管造影(ERCP)
A38: 34 | B38: 经皮经肝胆管造影费 | C38: 次 | E38: 2101030220000 | F38: 经皮经肝胆道造影（PTC） | I38: 210103022 | J38: 经皮经肝胆道造影(PTC) | M38: EACQE001 | N38: 经皮经肝穿刺胆管造影
A39: 35 | B39: 经皮经肝穿刺胆管外引流费 | C39: 次 | E39: 3109050100000 | F39: 经皮肝穿胆道引流术（PTCD） | I39: 310905010 | J39: 经皮肝穿胆道引流术(PTCD) | M39: KQE6R101 KQE7E101 KQE7E102 KQC6R101 | N39: 经皮肝穿胆道引流术(PTCD) 经皮经肝胆道狭窄球囊扩张术 经皮胆管球囊扩张术 经皮经肝肝门部肿物支架管外引流术
A40: 36 | B40: 经皮经肝穿刺胆管外引流费-经皮经肝穿刺胆囊外引流费（扩展） | C40: 次
...

Sheet 附件4-消化系统类医疗服务价格项目意见建议反馈表
A1: 附件4 | B1: 消化系统类医疗服务价格项目意见建议反馈表 | O1: 单位（盖章）：
A2: 序号 | B2: 项目编码 | C2: 项目名称 | D2: 服务产出 | E2: 价格构成 | F2: 计价单位 | G2: 计价说明 | H2: 政府指导价 | L2: 医保属性 | M2: 医保支付限制 | N2: 归集口径 | O2: 意见/建议 | P2: 理由
H3: 三级医院 | I3: 二级医院 | J3: 一级医院 | K3: 其他医疗机构（含基层医疗机构）
A4: 使用说明： 1.本类项目以消化系统为重点，按照消化系统相关医疗服务产出设立价格项目。 2.根据《深化医疗服务价格改革试点方案》（医保发〔2021〕41号）关于“厘清价格项目与临床诊疗技术规范、医疗机构成本要素、不同应用场景和收费标准等的政策边界分类整合现行价格项目，实现价格项目与操作步骤、诊疗部位等技术细节脱钩，增强现行价格项目对医疗技术和医疗活动改良创新的兼容性”的要求，服务产出相同的一类项目在操作层面存在差异，但在价格项目和定价水平层面具备合并同类项的条件，立项指南对此进行合并。所定价格属于政府指导价，为最高限价，下浮不限。同时，医疗机构申报的技术改良进步项目，可采取“现有项目兼容”方式简化处理，无需申报新增医疗服务价格项目，经向本地区医疗保障部门备案后可按照对应的项目执行。 3.本类项目所称“价格构成”，指项目价格应涵盖的各类资源消耗，用于确定计价单元的边界，不应作为临床技术标准理解，不是实际操作方式、路径、步骤、程序的强制性要求，价格构成中包含但临床实践中非必要、未发生的，无需强制要求公立医疗机构减计费用。所列“设备投入”包括但不限于操作设备、器具及固定资产投入。 4.本类项目所称“加收项”，指同一项目以不同方式提供或在不同场景应用时，确有必要制定差异化收费标准而细分的一类子项，包括在原项目价格基础上增加或减少收费的情况；实际应用中，同时涉及多个加收项的，以项目单价为基础计算相应的加/减收水平后，据实收费。 5.本类项目所称“扩展项”，指同一项目下以不同方式提供或在不同场景应用时，只扩展价格项目适用范围、不额外加价的一类子项，子项的价格按主项目执行。 6.本类项目所称“基本物质资源物耗”，指原则上限于不应或不必要与医疗服务项目分割的易耗品，包括但不限于各类消杀灭菌用品、储存用品、清洁用品、个人防护用品、垃圾处理用品、滑石粉、标签、防渗漏垫、中单、护（尿）垫、棉球、棉签、纱布（垫）、治疗护理盘（包）、治疗巾（单）、手术巾（单）、手术包、普通注射器、可复用的操作器具、非药品类对比剂、影像存储介质、铅制防护用品、标本采集存放用品、咬口器或牙垫、口/吹嘴、气体收集袋、肠道菌液制备用物或菌液制成品、染色剂、辅助试剂、肛门扩张器具、肛诊指套、圈套皮筋、挂线材料、报告打印耗材、软件（版权、开发、购买）成本等。基本物质资源消耗成本计入项目价格，不另行收费。除基本物质资源消耗以外的其他耗材，按照实际采购价格零差率销售。 7.本类项目中的“无创”为无需切开皮肤，经过自然腔道入路，利用无创入路方式进行的操作，包括但不限于食管镜、胃镜、十二指肠镜、结肠镜、小肠镜、直肠镜、胆管镜、胰管镜、超声内镜、共聚焦激光显微内镜等各类内镜。不包含因其他操作需求而涉及皮肤切开、组织切除等有创性操作内容。 8.本类项目中的“部位”为食管、胃、小肠、阑尾、盲肠、结肠、直肠、胆囊、胆管、胰腺、胰管等。 9.本类项目中消化内科内镜治疗或手术类项目，如需使用相关内镜可按内镜检查费用收取，如行消化内镜息肉去除时使用“内镜”，可收取“无创消化道息肉去除费+上消化道内镜检查费（常规）”。 10.本类项目中普通外科的各类手术项目的价格构成，已包含手术涉及的各类内镜使用成本。医疗机构在开展相关操作时，开放手术与经内镜手术执行相同的价格标准，内镜辅助操作不再另行收费。 11.本类项目价格构成中所称的“穿刺”为主项操作涉及的必要穿刺技术，价格构成中的穿刺操作不可收取相关费用；独立穿刺项目可按相应治疗价格项目收取。 12.本类项目中价格构成中所称的“止血”为压迫、填塞、包扎等常规止血方法，其他止血方式可收取相应费用。 13.本类项目中所称的“恶性肿瘤扩大根治性切除”，可参照各地省及省以上卫生健康部门技术规范中扩大根治性切除进行加收。 14.本类项目中涉及“包括……”“……等”的，属于开放型表述，所指对象不仅局限于表述中列明的事项，也包括未列明的同类事项。 15.本类项目中未尽事项，如等离子、激光、射频、微波等手术辅助操作等，将在辅助操作类、一般治疗类等其他立项指南中单独列示，暂按现行价格政策执行。 16.本类项目中其他学科开展相应项目时，可据实收费。 17.本类项目中的术中、治疗或检查过程中取活检样本已包含在本类项目价格构成中，不得按病理类医疗服务价格项目立项指南所列活检取材费计费。 18.本类项目中价格项目可应用人工智能辅助进行的，可直接按主项目收费，不同时收费。 19.公立医疗机构开展相关放射检查须提供符合要求的“数字影像处理和上传存储服务”并执行现行放射检查项目价格，对于不能提供符合要求的“数字影像处理和上传存储服务”的，执行的相关放射检查项目价格减收5元。 20.允许公立医疗机构在患者自愿选择基础上，若提供“数字胶片云储存服务”，可不再提供实体胶片。将减少实体胶片打印节约的成本，用于补偿数字胶片服务成本。医疗机构在常规提供影像资料后，如需额外提供影像资料，可收取相应费用。 21.本类项目所称的“儿童”，指6周岁及以下。本类项目儿童加收比例为主项目价格的20%。周岁的计算方法以法律的相关规定为准。
A5: 1 | B5: 012410000010000 | C5: 消化道pH值监测费 | D5: 通过各种方式监测消化道ph值。 | E5: 所定价格涵盖设备准备、插管、测定、撤除、数据提取分析、出具报告、处理用物等步骤所需的人力资源和基本物质资源消耗。（不含内镜操作） | F5: 次 | G5: 本项目中的“次”指：监测时长24小时，不足24小时按24小时计费。 | H5: 296.6 | I5: 269.6 | J5: 256.1 | K5: 242.6 | L5: =_xlfn.XLOOKUP(B5,[8]打印格式!$B$1:$B$65536,[8]打印格式!$H$1:$H$65536,) -> 乙类 | N5: 检查费
A6: 2 | B6: 012410000010001 | C6: 消化道pH值监测费-阻抗测定（加收） | F6: 次 | H6: 11.4 | I6: 10.4 | J6: 9.9 | K6: 9.4 | L6: =_xlfn.XLOOKUP(B6,[8]打印格式!$B$1:$B$65536,[8]打印格式!$H$1:$H$65536,) -> 乙类 | N6: 检查费
A7: 3 | B7: 012410000020000 | C7: 消化道压力测定费 | D7: 通过各种方式测定消化道压力。 | E7: 所定价格涵盖设备准备、插管、测定、撤除、数据提取分析、出具报告、处理用物等步骤所需的人力资源和基本物质资源消耗。（不含内镜操作） | F7: 项 | G7: 本类项目中的“消化道压力测定”指：食管测压、高分辨率食管测压、24小时食管动态测压、胃肠测压、24小时胃肠测压、胃幽门十二指肠测压、奥迪氏括约肌测压、结肠测压、肛门直肠测压、胆道测压等，以上不同测压按本项目收费，同一入路同一操作时间仅可计费1 次。 | H7: 142.7 | I7: 129.7 | J7: 123.2 | K7: 116.7 | L7: =_xlfn.XLOOKUP(B7,[8]打印格式!$B$1:$B$65536,[8]打印格式!$H$1:$H$65536,) -> 甲类 | N7: 检查费
A8: 4 | B8: 012410000030000 | C8: 胃肠电图检查费 | D8: 通过传导生物电，记录胃肠生物电活动并绘图，检查胃肠的蠕动情况及动力的强弱。 | E8: 所定价格涵盖设备准备、电极安放、记录、分析、出具报告、处理用物等步骤所需的人力资源和基本物质资源消耗。 | F8: 次 | H8: 167.9 | I8: 152.6 | J8: 145 | K8: 137.3 | L8: =_xlfn.XLOOKUP(B8,[8]打印格式!$B$1:$B$65536,[8]打印格式!$H$1:$H$65536,) -> 乙类 | N8: 检查费
A9: 5 | B9: 012410000040000 | C9: 呼气试验费（炎症检测） | D9: 测定呼出气体中特定气体的含量，判断气道炎症或全身炎症反应。 | E9: 所定价格涵盖设备准备、指导呼气、测定、分析、出具报告、处理用物等步骤所需的人力资源和基本物质资源消耗。 | F9: 次 | G9: 本项目中的“特定气体”指：一氧化氮。 | H9: 286 | I9: 260 | J9: 247 | K9: 234 | L9: =_xlfn.XLOOKUP(B9,[8]打印格式!$B$1:$B$65536,[8]打印格式!$H$1:$H$65536,) -> 自费 | N9: 检查费
A10: 6 | B10: 012410000050000 | C10: 呼气试验费（红细胞寿命检测） | D10: 测定呼出气体中特定气体的含量，判断红细胞寿命。 | E10: 所定价格涵盖设备准备、指导呼气、测定、分析、出具报告、处理用物等步骤所需的人力资源和基本物质资源消耗。 | F10: 次 | G10: 本项目中的“特定气体”指：一氧化碳。 | H10: 330 | I10: 300 | J10: 285 | K10: 270 | L10: =_xlfn.XLOOKUP(B10,[8]打印格式!$B$1:$B$65536,[8]打印格式!$H$1:$H$65536,) -> 自费 | N10: 检查费
A11: 7 | B11: 012410000060000 | C11: 呼气试验费（幽门螺旋杆菌检测） | D11: 通过测定呼出气体中标记同位素的含量，判断是否存在幽门螺杆菌感染。 | E11: 所定价格涵盖设备准备、指导呼气、采集气体、底物及服用、再次采集气体、测定、分析、出具报告、处理用物等步骤所需的人力资源和基本物质资源消耗。 | F11: 次 | H11: 103.8 | I11: 94.4 | J11: 89.7 | K11: 85 | L11: =_xlfn.XLOOKUP(B11,[8]打印格式!$B$1:$B$65536,[8]打印格式!$H$1:$H$65536,) -> 乙类 | N11: 检查费
A12: 8 | B12: 012410000070000 | C12: 呼气试验费（胃肠功能检测） | D12: 通过测定呼出气体中特定气体的含量，评估胃肠功能、小肠细菌过度生长。 | E12: 所定价格涵盖设备准备、底物及服用、指导呼气、多次采集气体、测定、分析、出具报告、处理用物等步骤所需的人力资源和基本物质资源消耗。 | F12: 项 | G12: 本项目中的“特定气体”指：氢气、甲烷、二氧化碳；其中氢气和甲烷的测定各计为1项，二氧化碳的测定不额外计费。 | H12: 195 | I12: 177.3 | J12: 168.4 | K12: 159.6 | L12: =_xlfn.XLOOKUP(B12,[8]打印格式!$B$1:$B$65536,[8]打印格式!$H$1:$H$65536,) -> 自费 | N12: 检查费
A13: 9 | B13: 012410000080000 | C13: 胃肠传输时间检查费 | D13: 根据标记物在消化道不同时间的分布情况，判断胃肠道动力。 | E13: 所定价格涵盖标记物准备、指导服用、拍片、数据处理、出具报告、处理用物等步骤所需的人力资源和基本物质资源消耗。 | F13: 次 | H13: 119.9 | I13: 109 | J13: 103.6 | K13: 98.1 | L13: =_xlfn.XLOOKUP(B13,[8]打印格式!$B$1:$B$65536,[8]打印格式!$H$1:$H$65536,) -> 甲类 | N13: 检查费
A14: 10 | B14: 012410000090000 | C14: 肝功能储备检查费 | D14: 通过监测特定状态下，肝脏对相关物质的滞留、排泄清除率，判断肝储备功能。 | E14: 所定价格涵盖准备、静脉注射、定时取血或探头监测含量、记录、计算、出具报告、处理用物等步骤所需的人力资源和基本物质资源消耗。 | F14: 次 | G14: 肝功能排泄试验按此收费。 | H14: 142.8 | I14: 129.8 | J14: 123.3 | K14: 116.8 | L14: =_xlfn.XLOOKUP(B14,[8]打印格式!$B$1:$B$65536,[8]打印格式!$H$1:$H$65536,) -> 乙类 | N14: 检查费
A15: 11 | B15: 013109000010000 | C15: 肠道菌群移植费 | D15: 收集并检测供者肠道样本制备菌液或菌制成品，通过消化道植入患者肠道。 | E15: 所定价格涵盖准备、供体筛查、采集、采集物检测、分离、制备、保存、植入、处理用物等步骤所需的人力资源和基本物质资源消耗。 | F15: 次 | G15: 需胃肠道内镜或置管辅助完成移植的，可收取“内镜检查”及“胃肠道置管”费用。 | H15: 1650 | I15: 1500 | J15: 1425 | K15: 1350 | L15: =_xlfn.XLOOKUP(B15,[8]打印格式!$B$1:$B$65536,[8]打印格式!$H$1:$H$65536,) -> 自费 | N15: 治疗费
A16: 12 | B16: 013109000020000 | C16: 腹水回输治疗费 | D16: 收集腹水，处理后回输患者进行治疗。 | E16: 所定价格涵盖准备、穿刺、置管、引流采集、过滤、回输、处理用物等步骤所需的人力资源和基本物质资源消耗。 | F16: 次 | H16: 386.2 | I16: 351.1 | J16: 333.5 | K16: 316 | L16: =_xlfn.XLOOKUP(B16,[8]打印格式!$B$1:$B$65536,[8]打印格式!$H$1:$H$65536,) -> 甲类 | N16: 治疗费
A17: 13 | B17: 013109000020100 | C17: 腹水回输治疗费-胸水回输治疗（扩展） | F17: 次 | H17: 386.2 | I17: 351.1 | J17: 333.5 | K17: 316 | L17: =_xlfn.XLOOKUP(B17,[8]打印格式!$B$1:$B$65536,[8]打印格式!$H$1:$H$65536,) -> 甲类 | N17: 治疗费
A18: 14 | B18: 013109000030000 | C18: 肠异位灌注整复费 | D18: 通过灌注复位肠套叠、肠扭转等各类异位情况。 | E18: 所定价格涵盖设备准备、灌注、观察、复位、处理用物等步骤所需的人力资源和基本物质资源消耗。（不含内镜操作） | F18: 次 | H18: 268 | I18: 243.6 | J18: 231.4 | K18: 219.2 | L18: =_xlfn.XLOOKUP(B18,[8]打印格式!$B$1:$B$65536,[8]打印格式!$H$1:$H$65536,) -> 乙类 | N18: 治疗费
A19: 15 | B19: 013109000030100 | C19: 肠异位灌注整复费-胃异位整复（扩展） | F19: 次 | H19: 268 | I19: 243.6 | J19: 231.4 | K19: 219.2 | L19: =_xlfn.XLOOKUP(B19,[8]打印格式!$B$1:$B$65536,[8]打印格式!$H$1:$H$65536,) -> 乙类 | N19: 治疗费
A20: 16 | B20: 012410000100000 | C20: 胶囊内镜检查费（非操控） | D20: 各类胶囊内镜借助消化道自身蠕动，无需外界干预，自然通过消化道完成检查。 | E20: 所定价格涵盖准备、指导吞服胶囊内镜、收集影像信息、出具报告、处理用物等步骤所需的人力资源和基本物质资源消耗。 | F20: 次 | H20: 3025 | I20: 2750 | J20: 2612.5 | K20: 2475 | L20: =_xlfn.XLOOKUP(B20,[8]打印格式!$B$1:$B$65536,[8]打印格式!$H$1:$H$65536,) -> 乙类 | N20: 检查费
A21: 17 | B21: 012410000110000 | C21: 胶囊内镜检查费（受操控） | D21: 医务人员以磁控等方式操作胶囊内镜，使其在受操控下通过消化道，实现定向定位检查。 | E21: 所定价格涵盖准备、指导吞服胶囊内镜、操控、收集影像信息、出具报告、处理用物等步骤所需的人力资源和基本物质资源消耗。 | F21: 次 | H21: 3630 | I21: 3300 | J21: 3135 | K21: 2970 | L21: =_xlfn.XLOOKUP(B21,[8]打印格式!$B$1:$B$65536,[8]打印格式!$H$1:$H$65536,) -> 乙类 | N21: 检查费
A22: 18 | B22: 012410000120000 | C22: 上消化道内镜检查费（常规） | D22: 通过消化道内镜观察和诊断上消化道的疾病。 | E22: 所定价格涵盖设备准备、体位摆放、入镜、观察、图像采集、撤镜、出具报告、处理用物等步骤所需的人力资源和基本物质资源消耗。 | F22: 次 | G22: 1.单次入路检查经过多个部位的，以最终到达的部位计费1次。 2.同时行放大、染色检查仅计费1次 3.“经皮经肝胆道镜检查”按“胆/胰管内镜检查”收费。 | H22: 189.8 | I22: 172.5 | J22: 163.9 | K22: 155.3 | L22: =_xlfn.XLOOKUP(B22,[8]打印格式!$B$1:$B$65536,[8]打印格式!$H$1:$H$65536,) -> 甲类 | N22: 检查费
A23: 19 | B23: 012410000120001 | C23: 上消化道内镜检查费（常规）-单气囊小肠镜（加收） | F23: 次 | H23: 1200 | I23: 1090.9 | J23: 1036.4 | K23: 981.8 | L23: =_xlfn.XLOOKUP(B23,[8]打印格式!$B$1:$B$65536,[8]打印格式!$H$1:$H$65536,) -> 自费 | N23: 检查费
A24: 20 | B24: 012410000120002 | C24: 上消化道内镜检查费（常规）-双气囊小肠镜（加收） | F24: 次 | H24: 4219 | I24: 3835.5 | J24: 3643.7 | K24: 3451.9 | L24: =_xlfn.XLOOKUP(B24,[8]打印格式!$B$1:$B$65536,[8]打印格式!$H$1:$H$65536,) -> 甲类 | N24: 检查费
A25: 21 | B25: 012410000120003 | C25: 上消化道内镜检查费（常规）-胆/胰管内镜检查（加收） | F25: 次 | H25: 204 | I25: 185.5 | J25: 176.2 | K25: 166.9 | L25: =_xlfn.XLOOKUP(B25,[8]打印格式!$B$1:$B$65536,[8]打印格式!$H$1:$H$65536,) -> 甲类 | N25: 检查费
A26: 22 | B26: 012410000120004 | C26: 上消化道内镜检查费（常规）-胆/胰管内镜子镜检查（加收） | F26: 次 | H26: 2010.2 | I26: 1827.5 | J26: 1736.1 | K26: 1644.7 | L26: =_xlfn.XLOOKUP(B26,[8]打印格式!$B$1:$B$65536,[8]打印格式!$H$1:$H$65536,) -> 自费 | N26: 检查费
A27: 23 | B27: 012410000120011 | C27: 上消化道内镜检查费（常规）-放大/染色检查（加收） | F27: 次 | H27: 178.4 | I27: 162.2 | J27: 154.1 | K27: 146 | L27: =_xlfn.XLOOKUP(B27,[8]打印格式!$B$1:$B$65536,[8]打印格式!$H$1:$H$65536,) -> 乙类 | N27: 检查费
A28: 24 | B28: 012410000130000 | C28: 下消化道内镜检查费（常规） | D28: 通过消化道内镜观察和诊断下消化道的疾病。 | E28: 所定价格涵盖设备准备、体位摆放、入镜、观察、图像采集、撤镜、出具报告、处理用物等步骤所需的人力资源和基本物质资源消耗。 | F28: 次 | G28: 1.单次入路检查经过多个部位的，以最终到达的部位计费1次。 2.同时行放大、染色检查仅计费1次。 | H28: 228.6 | I28: 207.8 | J28: 197.4 | K28: 187 | L28: =_xlfn.XLOOKUP(B28,[8]打印格式!$B$1:$B$65536,[8]打印格式!$H$1:$H$65536,) -> 甲类 | N28: 检查费
A29: 25 | B29: 012410000130001 | C29: 下消化道内镜检查费（常规）-单气囊小肠镜（加收） | F29: 次 | H29: 1200 | I29: 1090.9 | J29: 1036.4 | K29: 981.8 | L29: =_xlfn.XLOOKUP(B29,[8]打印格式!$B$1:$B$65536,[8]打印格式!$H$1:$H$65536,) -> 自费 | N29: 检查费
A30: 26 | B30: 012410000130002 | C30: 下消化道内镜检查费（常规）-双气囊小肠镜（加收） | F30: 次 | H30: 4180.2 | I30: 3800.2 | J30: 3610.2 | K30: 3420.2 | L30: =_xlfn.XLOOKUP(B30,[8]打印格式!$B$1:$B$65536,[8]打印格式!$H$1:$H$65536,) -> 甲类 | N30: 检查费
A31: 27 | B31: 012410000130011 | C31: 下消化道内镜检查费（常规）-放大/染色检查（加收） | F31: 次 | H31: 178.4 | I31: 162.2 | J31: 154.1 | K31: 146 | L31: =_xlfn.XLOOKUP(B31,[8]打印格式!$B$1:$B$65536,[8]打印格式!$H$1:$H$65536,) -> 乙类 | N31: 检查费
A32: 28 | B32: 012410000140000 | C32: 上消化道内镜检查费（超声内镜） | D32: 通过微探头、环扫 、线阵式等不同消化道超声内镜观察和诊断疾病。 | E32: 所定价格涵盖设备准备、体位摆放、入镜、观察、图像采集、撤镜、出具报告、处理用物等步骤所需的人力资源和基本物质资源消耗。 | F32: 次 | G32: 单次入路检查经过多个部位的，以最终到达的部位计费1次。 | H32: 536.8 | I32: 488 | J32: 463.6 | K32: 439.2 | L32: =_xlfn.XLOOKUP(B32,[8]打印格式!$B$1:$B$65536,[8]打印格式!$H$1:$H$65536,) -> 自费 | N32: 检查费
A33: 29 | B33: 012410000140001 | C33: 上消化道内镜检查费（超声内镜）-胆/胰超声内镜检查（加收） | F33: 次 | H33: 283 | I33: 257.3 | J33: 244.4 | K33: 231.6 | L33: =_xlfn.XLOOKUP(B33,[8]打印格式!$B$1:$B$65536,[8]打印格式!$H$1:$H$65536,) -> 自费 | N33: 检查费
A34: 30 | B34: 012410000150000 | C34: 下消化道内镜检查费（超声内镜） | D34: 通过微探头、环扫 、线阵式等不同消化道超声内镜观察和诊断疾病。 | E34: 所定价格涵盖设备准备、体位摆放、入镜、观察、图像采集、撤镜、出具报告、处理用物等步骤所需的人力资源和基本物质资源消耗。 | F34: 次 | G34: 单次入路检查经过多个部位的，以最终到达的部位计费1次。 | H34: 536.8 | I34: 488 | J34: 463.6 | K34: 439.2 | L34: =_xlfn.XLOOKUP(B34,[8]打印格式!$B$1:$B$65536,[8]打印格式!$H$1:$H$65536,) -> 自费 | N34: 检查费
A35: 31 | B35: 012410000160000 | C35: 上消化道内镜检查费（共聚焦激光显微内镜） | D35: 通过共聚焦激光显微内镜观察和诊断上消化道的疾病。 | E35: 所定价格涵盖设备准备、体位摆放、应用对比剂（静脉或喷涂）、入镜、观察、图像采集、撤镜、处理用物等步骤所需的人力资源和基本物质资源消耗。 | F35: 次 | G35: 1.单次入路检查经过多个部位的，以最终到达的部位计费1次。 2.超声内镜引导针基共聚焦激光显微内镜行胆/胰检查时，可收取“上消化道内镜检查费（超声内镜）-胆/胰超声内镜检查（加收）”及“上消化道内镜检查费（共聚焦激光显微内镜）”。 | H35: 1550 | I35: 1409.1 | J35: 1338.6 | K35: 1268.2 | L35: =_xlfn.XLOOKUP(B35,[8]打印格式!$B$1:$B$65536,[8]打印格式!$H$1:$H$65536,) -> 自费 | N35: 检查费
A36: 32 | B36: 012410000170000 | C36: 下消化道内镜检查费（共聚焦激光显微内镜） | D36: 通过共聚焦激光显微内镜观察和诊断下消化道的疾病。 | E36: 所定价格涵盖设备准备、体位摆放、应用对比剂（静脉或喷涂）、入镜、观察、图像采集、撤镜、处理用物等步骤所需的人力资源和基本物质资源消耗。 | F36: 次 | G36: 单次入路检查经过多个部位的，以最终到达的部位计费1次。 | H36: 2000 | I36: 1818.2 | J36: 1727.3 | K36: 1636.4 | L36: =_xlfn.XLOOKUP(B36,[8]打印格式!$B$1:$B$65536,[8]打印格式!$H$1:$H$65536,) -> 自费 | N36: 检查费
A37: 33 | B37: 012301010050000 | C37: 无创逆行胰胆管造影费 | D37: 通过无创操作，将导管插入胆管和（或）胰管内进行造影。 | E37: 所定价格涵盖准备、置管、注入对比剂、摄取成像、撤除、出具报告、数字影像处理与上传存储（含数字方式）、处理用物等步骤所需的人力资源、设备运转成本和基本物质资源消耗。（不含内镜检查） | F37: 次 | H37: 275 | I37: 250 | J37: 237.5 | K37: 225 | L37: =_xlfn.XLOOKUP(B37,[8]打印格式!$B$1:$B$65536,[8]打印格式!$H$1:$H$65536,) -> 乙类 | N37: 检查费
A38: 34 | B38: 012301010060000 | C38: 经皮经肝胆管造影费 | D38: 通过经皮经肝穿刺胆管造影。 | E38: 所定价格涵盖准备、穿刺、置管、注入对比剂、摄取成像、撤除、出具报告、数字影像处理与上传存储（含数字方式）、处理用物等步骤所需的人力资源、设备运转成本和基本物质资源消耗。 | F38: 次 | H38: 220 | I38: 200 | J38: 190 | K38: 180 | L38: =_xlfn.XLOOKUP(B38,[8]打印格式!$B$1:$B$65536,[8]打印格式!$H$1:$H$65536,) -> 乙类 | N38: 检查费
A39: 35 | B39: 013109000040000 | C39: 经皮经肝穿刺胆管外引流费 | D39: 经皮经肝穿刺胆管并置入引流管，实现外引流。 | E39: 所定价格涵盖设备准备、体位摆放、穿刺、观察、必要时扩张、置管、引流、处理用物等步骤所需的人力资源、设备运转成本和基本物质资源消耗。 （不含内镜检查和经皮经肝胆管造影） | F39: 次 | H39: 495 | I39: 450 | J39: 427.5 | K39: 405 | L39: =_xlfn.XLOOKUP(B39,[8]打印格式!$B$1:$B$65536,[8]打印格式!$H$1:$H$65536,) -> 甲类 | N39: 治疗费
A40: 36 | B40: 013109000040100 | C40: 经皮经肝穿刺胆管外引流费-经皮经肝穿刺胆囊外引流费（扩展） | F40: 次 | H40: 495 | I40: 450 | J40: 427.5 | K40: 405 | L40: =_xlfn.XLOOKUP(B40,[8]打印格式!$B$1:$B$65536,[8]打印格式!$H$1:$H$65536,) -> 甲类 | N40: 治疗费
...

Sheet 附件5-口腔类医疗服务价格项目表
A1: 附件5 | B1: 口腔类医疗服务价格项目表（征求意见稿）
A2: 序号 | B2: 项目编码 | C2: 项目名称 | D2: 服务产出 | E2: 价格构成 | F2: 计价单位 | G2: 计价说明 | H2: 政府指导价（含耗材及消毒费） | L2: 医保属性 | M2: 医保支付限制 | N2: 归集口径
H3: 三级医院 | I3: 二级医院 | J3: 一级医院 | K3: 其他医疗机构（含基层医疗机构）
A4: 使用说明： 1.本类项目以口腔治疗为重点，按照口腔治疗方式设立价格项目。根据《深化医疗服务价格改革试点方案》（医保发〔2021〕41号)“厘清价格项目与临床诊疗技术规范、医疗机构成本要素、不同应用场景和收费标准等的政策边界，分类整合现行价格项目，实现价格项目与操作步骤、诊疗部位等技术细节脱钩，增强现行价格项目对医疗技术和医疗活动改良创新的兼容性”要求，各类口腔类项目在操作层面存在差异，但在价格项目和定价水平层面具备合并同类项的条件，立项指南对目前常用的口腔类项目进行了合并。所定价格是政府指导价为最高限价，下浮不限；同时，医疗机构、医务人员实施治疗过程中有关创新改良，采取“现有项目兼容”的方式简化处理，无需申报新增医疗服务价格项目,经向本地区医保部门备案后可按照对应的项目执行。 2.本类项目所称的“价格构成”，指项目价格应涵盖的各类资源消耗，用于确定计价单元的边界，是制定调整项目价格考虑的测算因子，不应作为临床技术标准理解，不是实际操作方式、路径、步骤、程序的强制性要求，价格构成中包含但临床实践中非必要、未发生的，无需强制要求公立医疗机构减计费用。所列“设备投入”包括但不限于操作设备、器具及固定资产投入。 3.本类项目所称“加收项”，指同一项目以不同方式提供或在不同场景应用时，确有必要制定差异化收费标准而细分的一类子项，包括在原项目价格基础上增加或减少收费的情况；实际应用中，同时涉及多个加收项的，以项目单价为基础计算相应的加/减收水平后，据实收费。 4.本类项目所称“扩展项”，指同一项目下以不同方式提供或在不同场景应用时，只扩展价格项目适用范围、不额外加价的一类子项，子项的价格按主项目执行。 5.本类项目所称"基本物质资源消耗"，指原则上限于不应或不必要与医疗服务项目分割的易耗品，属于医疗服务价格项目应当使用的、市场价格和使用数量相对稳定的医用耗材，包括但不限于各类消杀用品、储存用品、清洁用品、个人防护用品、垃圾处理用品、冲洗液、润滑剂、灌洗液、棉球（卷)、棉签、纱布（垫)、绷带、护垫、衬垫、手术巾（单)、治疗巾（单)、治疗护理盘(包)、注射器、压舌板、滑石粉、防渗漏垫、标签、操作器具、冲洗工具、备皮工具、镍钛锉、口腔盒、印模材、咬合纸、引流条、修复体粘接剂、窝沟封闭剂、耗材粘接剂、充填材料、根管封闭剂、盖髓材料、一次性口杯、一次性吸唾管、氟化物、银锶制剂、酚制剂等。基本物耗成本计入项目价格，不另行收费。除基本物耗以外的其他耗材，按照实际采购价格零差率销售。 6.本类项目中涉及“包括……”“…… 等”的，属于开放型表述，所指对象不仅局限于表述中列明的事项，也包括未列明的同类事项。 7.医疗机构自行制作设计的包括但不限于如矫治器、保持器、运动护齿等个性化产品，采取“产品化”的价格形成机制，由医疗机构以物料成本、加工服务等为基础，按照适当的成本回收率自主确定价格并销售，不再按制作步骤拆分设立医疗服务价格项目。 8.口腔种植类立项指南中“口腔内植骨费”项目，扩大其服务产出适用范围，不仅局限种植牙所用，口腔学科中“牙槽骨增量手术费”和“牙周植骨费”可按照此项目执行计费。 9.涉及“复杂”等内涵未尽的表述，除立项指南中已明确的情形外，医院实践中按照“复杂”情形计费的，应以卫生行政主管部门最新版卫生技术规范、临床指南或专家共识中的明确定性为前提。满足复杂情况中的任意一种即算复杂，不同复杂情况不累计叠加收费。 10.在本医疗机构开展错合矫治治疗时，方案设计属诊查治疗应尽事项，不得同时收取设计费。 11.本类项目所称的“儿童”，指6周岁及以下。本类项目儿童加收比例为主项目价格的20%。周岁的计算方法以法律的相关规定为准。
A5: 1 | B5: 013105020010000 | C5: 乳牙期错合矫治费（常规） | D5: 通过矫治器安装调整进行乳牙错合畸形的早期矫治。 | E5: 所定价格涵盖准备、方案设计、矫治器安装、调整评估、加力、拆除、处理用物等步骤所需的人力资源和基本物质资源消耗。 | F5: 疗程 | G5: 本项目所称“疗程”指：从错合矫治治疗开始到结束。 | H5: 2900 | I5: 2636.4 | J5: 2504.6 | K5: =I5*0.9 -> 2372.76 | L5: =_xlfn.XLOOKUP(B5,[7]打印格式!$B$1:$B$65536,[7]打印格式!$H$1:$H$65536) -> 自费 | N5: 治疗费
A6: 2 | B6: 013105020020000 | C6: 乳牙期错合矫治费（复杂） | D6: 通过矫治器安装调整进行疑难复杂情况的乳牙错合畸形的早期矫治。 | E6: 所定价格涵盖准备、方案设计、矫治器安装、调整评估、加力、拆除、处理用物等步骤所需的人力资源和基本物质资源消耗。 | F6: 疗程 | G6: 1.本项目所称“复杂”指：骨性Ⅲ类、上颌或上牙弓狭窄、伴颅颌面先天畸形、后牙反合或锁合的情况。 2.本项目所称“疗程”指：从错合矫治治疗开始到结束。 | H6: 4300 | I6: 3909.0909 | J6: 3713.6 | K6: =I6*0.9 -> 3518.1818 | L6: =_xlfn.XLOOKUP(B6,[7]打印格式!$B$1:$B$65536,[7]打印格式!$H$1:$H$65536) -> 自费 | N6: 治疗费
A7: 3 | B7: 013105020030000 | C7: 替牙期Ⅰ类错合矫治费（常规） | D7: 通过矫治器安装调整进行替牙期Ⅰ类错合畸形的早期矫治。 | E7: 所定价格涵盖准备、方案设计、矫治器安装、调整评估、加力、拆除、处理用物等步骤所需的人力资源和基本物质资源消耗。 | F7: 疗程 | G7: 本项目所称“疗程”指：从错合矫治治疗开始到结束。 | H7: 8700 | I7: 7909.0909 | J7: 7513.6 | K7: =I7*0.9 -> 7118.1818 | L7: =_xlfn.XLOOKUP(B7,[7]打印格式!$B$1:$B$65536,[7]打印格式!$H$1:$H$65536) -> 自费 | N7: 治疗费
A8: 4 | B8: 013105020040000 | C8: 替牙期Ⅰ类错合矫治费（复杂） | D8: 通过矫治器安装调整进行疑难复杂情况的替牙期Ⅰ类错合畸形的早期矫治。 | E8: 所定价格涵盖准备、方案设计、矫治器安装、调整评估、加力、拆除、处理用物等步骤所需的人力资源和基本物质资源消耗。 | F8: 疗程 | G8: 1.本项目所称“复杂”指：开合、后牙反合、III度深覆合、后牙锁合、上颌前突（ANB≥7度）或下颌前突（ANB≤0度）、伴颅颌面畸形、伴颞下颌关节病、阻生牙的情况。 2.本项目所称“疗程”指：从错合矫治治疗开始到结束。 | H8: 11100 | I8: 10090.909 | J8: 9586.4 | K8: =I8*0.9 -> 9081.8182 | L8: =_xlfn.XLOOKUP(B8,[7]打印格式!$B$1:$B$65536,[7]打印格式!$H$1:$H$65536) -> 自费 | N8: 治疗费
A9: 5 | B9: 013105020050000 | C9: 替牙期Ⅱ类错合矫治费（常规） | D9: 通过矫治器安装调整进行替牙期Ⅱ类错合畸形的早期矫治。 | E9: 所定价格涵盖准备、方案设计、矫治器安装、调整评估、加力、拆除、处理用物等步骤所需的人力资源和基本物质资源消耗。 | F9: 疗程 | G9: 本项目所称“疗程”指：从错合矫治治疗开始到结束。 | H9: 9800 | I9: 8909.0909 | J9: 8463.6 | K9: =I9*0.9 -> 8018.1818 | L9: =_xlfn.XLOOKUP(B9,[7]打印格式!$B$1:$B$65536,[7]打印格式!$H$1:$H$65536) -> 自费 | N9: 治疗费
A10: 6 | B10: 013105020060000 | C10: 替牙期Ⅱ类错合矫治费（复杂） | D10: 通过矫治器安装调整进行疑难复杂情况的替牙期Ⅱ类错合畸形的早期矫治。 | E10: 所定价格涵盖准备、方案设计、矫治器安装、调整评估、加力、拆除、处理用物等步骤所需的人力资源和基本物质资源消耗。 | F10: 疗程 | G10: 1.本项目所称“复杂”指：开合、后牙反合、III度深覆合、后牙锁合、严重上颌前突（ANB≥7度）、伴颅颌面畸形、伴颞下颌关节病、阻生牙的情况。 2.本项目所称“疗程”指：从错合矫治治疗开始到结束。 | H10: 13000 | I10: 11818.182 | J10: 11227.3 | K10: =I10*0.9 -> 10636.364 | L10: =_xlfn.XLOOKUP(B10,[7]打印格式!$B$1:$B$65536,[7]打印格式!$H$1:$H$65536) -> 自费 | N10: 治疗费
A11: 7 | B11: 013105020070000 | C11: 替牙期Ⅲ类错合矫治费（常规） | D11: 通过矫治器安装调整进行替牙期Ⅲ类错合畸形的早期矫治。 | E11: 所定价格涵盖准备、方案设计、矫治器安装、调整评估、加力、拆除、处理用物等步骤所需的人力资源和基本物质资源消耗。 | F11: 疗程 | G11: 本项目所称“疗程”指：从错合矫治治疗开始到结束。 | H11: 11100 | I11: 10090.909 | J11: 9586.4 | K11: =I11*0.9 -> 9081.8182 | L11: =_xlfn.XLOOKUP(B11,[7]打印格式!$B$1:$B$65536,[7]打印格式!$H$1:$H$65536) -> 自费 | N11: 治疗费
A12: 8 | B12: 013105020080000 | C12: 替牙期Ⅲ类错合矫治费（复杂） | D12: 通过矫治器安装调整进行疑难复杂情况的替牙期Ⅲ类错合畸形的早期矫治。 | E12: 所定价格涵盖准备、方案设计、矫治器安装、调整评估、加力、拆除、处理用物等步骤所需的人力资源和基本物质资源消耗。 | F12: 疗程 | G12: 1.本项目所称“复杂”指：开合、III度深覆合、后牙反合、后牙锁合、下颌前突（ANB≤0度）、伴颅颌面畸形、伴颞下颌关节病、阻生牙的情况。 2.本项目所称“疗程”指：从错合矫治治疗开始到结束。 | H12: 15000 | I12: 13636.364 | J12: 12954.5 | K12: =I12*0.9 -> 12272.727 | L12: =_xlfn.XLOOKUP(B12,[7]打印格式!$B$1:$B$65536,[7]打印格式!$H$1:$H$65536) -> 自费 | N12: 治疗费
A13: 9 | B13: 013105020090000 | C13: 恒牙期Ⅰ类错合矫治费（常规） | D13: 通过矫治器安装调整进行恒牙期Ⅰ类错合畸形的矫治。 | E13: 所定价格涵盖准备、方案设计、矫治器安装、调整评估、加力、拆除、处理用物等步骤所需的人力资源和基本物质资源消耗。 | F13: 疗程 | G13: 1.在同一家医疗机构正畸治疗结束，复发病例再次矫治，每例按疗程费用的50%计价收费。 2.本项目所称“疗程”指：从错合矫治治疗开始到结束。 | H13: 18400 | I13: 16727.273 | J13: 15890.9 | K13: =I13*0.9 -> 15054.545 | L13: =_xlfn.XLOOKUP(B13,[7]打印格式!$B$1:$B$65536,[7]打印格式!$H$1:$H$65536) -> 自费 | N13: 治疗费
A14: 10 | B14: 013105020100000 | C14: 恒牙期Ⅰ类错合矫治费（复杂） | D14: 通过矫治器安装调整进行疑难复杂情况的恒牙期Ⅰ类错合畸形的矫治。 | E14: 所定价格涵盖准备、方案设计、矫治器安装、调整评估、加力、拆除、处理用物等步骤所需的人力资源和基本物质资源消耗。 | F14: 疗程 | G14: 1.本项目所称“复杂”指：18岁以上（不含18岁）、开合、III度深覆合、拔磨牙后关闭间隙、磨牙或牙弓远中移动、阻生牙、伴颅颌面畸形、伴颞下颌关节病、正畸-正颌手术联合治疗、舌侧矫治的情况。 2.在同一家医疗机构正畸治疗结束，复发病例再次矫治，每例按疗程费用的50%计价收费。3.本项目所称“疗程”指：从错合矫治治疗开始到结束。 | H14: 24400 | I14: 22181.818 | J14: 21072.7 | K14: =I14*0.9 -> 19963.636 | L14: =_xlfn.XLOOKUP(B14,[7]打印格式!$B$1:$B$65536,[7]打印格式!$H$1:$H$65536) -> 自费 | N14: 治疗费
A15: 11 | B15: 013105020110000 | C15: 恒牙期Ⅱ类错合矫治费（常规） | D15: 通过矫治器安装调整进行恒牙期Ⅱ类错合畸形的矫治。 | E15: 所定价格涵盖准备、方案设计、矫治器安装、调整评估、加力、拆除、处理用物等步骤所需的人力资源和基本物质资源消耗。 | F15: 疗程 | G15: 1.在同一家医疗机构正畸治疗结束，复发病例再次矫治，每例按疗程费用的50%计价收费。 2.本项目所称“疗程”指：从错合矫治治疗开始到结束。 | H15: 22700 | I15: 20636.364 | J15: 19604.5 | K15: =I15*0.9 -> 18572.727 | L15: =_xlfn.XLOOKUP(B15,[7]打印格式!$B$1:$B$65536,[7]打印格式!$H$1:$H$65536) -> 自费 | N15: 治疗费
A16: 12 | B16: 013105020120000 | C16: 恒牙期Ⅱ类错合矫治费（复杂） | D16: 通过矫治器安装调整进行疑难复杂情况的恒牙期Ⅱ类错合畸形的矫治。 | E16: 所定价格涵盖准备、方案设计、矫治器安装、调整评估、加力、拆除、处理用物等步骤所需的人力资源和基本物质资源消耗。 | F16: 疗程 | G16: 1.本项目所称“复杂”指：18岁以上（不含18岁）、开合、III度深覆合、拔磨牙后关闭间隙、阻生牙、上颌前突（ANB≥5度）的拔牙正畸治疗、磨牙或牙弓远中移动、伴颅颌面畸形、伴颞下颌关节病、正畸-正颌手术联合治疗、舌侧矫治的情况。 2.在同一家医疗机构正畸治疗结束，复发病例再次矫治，每例按疗程费用的50%计价收费。 3.本项目所称“疗程”指：从错合矫治治疗开始到结束。 | H16: 29600 | I16: 26909.091 | J16: 25563.6 | K16: =I16*0.9 -> 24218.182 | L16: =_xlfn.XLOOKUP(B16,[7]打印格式!$B$1:$B$65536,[7]打印格式!$H$1:$H$65536) -> 自费 | N16: 治疗费
... A21: 17 | B21: 013105020170000 | C21: 恒牙期Ⅲ类错合矫形功能治疗费 | D21: 通过针对性矫治器的安装进行恒牙期III类错合畸形的矫形和功能治疗。 | E21: 所定价格涵盖准备、方案设计、矫治器安装、调整评估、加力、拆除、处理用物等步骤所需的人力资源和基本物质资源消耗。 | F21: 疗程 | G21: 本项目所称“疗程”指：从错合矫形治疗开始到结束。 | H21: 9700 | I21: 8818.1818 | J21: 8377.3 | K21: =I21*0.9 -> 7936.3636 | L21: =_xlfn.XLOOKUP(B21,[7]打印格式!$B$1:$B$65536,[7]打印格式!$H$1:$H$65536) -> 自费 | N21: 治疗费
A22: 18 | B22: 013105020180000 | C22: 新生儿唇腭裂术前治疗费 | D22: 针对婴儿期唇腭裂唇裂术前，通过矫治器安装调整，实现鼻齿槽塑形。 | E22: 所定价格涵盖准备、方案设计、矫治器安装、调整、拆除、处理用物等步骤所需的人力资源和基本物质资源消耗。 | F22: 疗程 | H22: 3100 | I22: 2818.1818 | J22: 2677.3 | K22: =I22*0.9 -> 2536.3636 | L22: =_xlfn.XLOOKUP(B22,[7]打印格式!$B$1:$B$65536,[7]打印格式!$H$1:$H$65536) -> 自费 | N22: 治疗费
A23: 19 | B23: 013105020190000 | C23: 睡眠呼吸暂停综合征口腔正畸辅助治疗费 | D23: 通过口腔阻鼾器安装调整或扩弓活动矫治，减轻阻塞性睡眠呼吸暂停的症状。 | E23: 所定价格涵盖准备、方案设计、矫治器安装、调整评估、处理用物等步骤所需的人力资源和基本物质资源消耗。 | F23: 疗程 | H23: 8000 | I23: 7272.7273 | J23: 6909.1 | K23: =I23*0.9 -> 6545.4545 | L23: =_xlfn.XLOOKUP(B23,[7]打印格式!$B$1:$B$65536,[7]打印格式!$H$1:$H$65536) -> 自费 | N23: 治疗费
A24: 20 | B24: 013105020200000 | C24: 局部正畸矫治费 | D24: 使用局部矫治器矫治一个象限内的牙齿伸长、倾斜、间隙关闭或开展、微小牙齿移动等矫治。 | E24: 所定价格涵盖准备、方案设计、矫治器安装、调整评估、加力、拆除、处理用物等步骤所需的人力资源和基本物质资源消耗。 | F24: 象限•疗程 | G24: 1.全口共4个象限。 2.累计价收费格超过全口价格，按照全口价格计价收费。 | H24: 7200 | I24: 6545.4545 | J24: 6218.2 | K24: =I24*0.9 -> 5890.9091 | L24: =_xlfn.XLOOKUP(B24,[7]打印格式!$B$1:$B$65536,[7]打印格式!$H$1:$H$65536) -> 自费 | N24: 治疗费
A25: 21 | B25: 013105020210000 | C25: 口腔固定保持器安装费 | D25: 为需要正畸治疗后进行固定保持的患者安装固定保持器。 | E25: 所定价格涵盖准备、安装、调试、处理用物等步骤所需的人力资源和基本物质资源消耗。 | F25: 单颌 | H25: 500 | I25: 454.54545 | J25: 431.8 | K25: =I25*0.9 -> 409.09091 | L25: =_xlfn.XLOOKUP(B25,[7]打印格式!$B$1:$B$65536,[7]打印格式!$H$1:$H$65536) -> 自费 | N25: 治疗费
A26: 22 | B26: 013105020220000 | C26: 口腔固定保持器拆除费 | D26: 为需要拆除固定保持器的患者去除固定保持器。 | E26: 所定价格涵盖准备、拆除、处理用物等步骤所需的人力资源和基本物质资源消耗。 | F26: 单颌 | H26: 250 | I26: 227.27273 | J26: 215.9 | K26: =I26*0.9 -> 204.54545 | L26: =_xlfn.XLOOKUP(B26,[7]打印格式!$B$1:$B$65536,[7]打印格式!$H$1:$H$65536) -> 自费 | N26: 治疗费
A27: 23 | B27: 013105020230000 | C27: 错合畸形治疗设计费 | D27: 通过各项检查完成错合畸形的诊断与矫治方案设计。 | E27: 所定价格涵盖准备、模型制取和灌注、模型测量、面颌像拍照、头影测量分析、制定治疗计划和方案、处理用物等步骤所需的人力资源和基本物质资源消耗。 | F27: 次 | G27: 1.完成1个疗程计价收费1次；在本医疗机构中开展的矫治不得同时收取设计价收费，若已收取“错合畸形治疗设计费”须在错合矫治治疗费用中予以同等费用减免。 2.不含放射检查费用。 | H27: 800 | I27: 727.27273 | J27: 690.9 | K27: =I27*0.9 -> 654.54545 | L27: =_xlfn.XLOOKUP(B27,[7]打印格式!$B$1:$B$65536,[7]打印格式!$H$1:$H$65536) -> 自费 | N27: 治疗费
A28: 24 | B28: 013306020010000 | C28: 正畸支抗钉植入费 | D28: 通过将正畸支抗钉植入颌骨协助完成正畸治疗。 | E28: 所定价格涵盖手术计划、术区准备、消毒、植入、处理用物等步骤所需的人力资源和基本物质资源消耗。 | F28: 每钉 | H28: 380 | I28: 345.45455 | J28: 328.2 | K28: =I28*0.9 -> 310.90909 | L28: =_xlfn.XLOOKUP(B28,[7]打印格式!$B$1:$B$65536,[7]打印格式!$H$1:$H$65536) -> 自费 | N28: 手术费
A29: 25 | B29: 013306020010001 | C29: 正畸支抗钉植入费-儿童（加收） | F29: 每钉 | H29: 76 | I29: 69.090909 | J29: =I29*0.95 -> 65.636364 | K29: =I29*0.9 -> 62.181818 | L29: =_xlfn.XLOOKUP(B29,[7]打印格式!$B$1:$B$65536,[7]打印格式!$H$1:$H$65536) -> 自费 | N29: 手术费
A30: 26 | B30: 013105010330000 | C30: 牙根牵引费 | D30: 通过牵引方法将冠根折或根折的外伤牙齿牵引至龈上。 | E30: 所定价格涵盖准备、切开、粘接或制戴、牵引、加力、调整、处理用物等步骤所需的人力资源和基本物质资源消耗。 | F30: 牙 | H30: 333.4 | I30: 303.07273 | J30: 287.9 | K30: =I30*0.9 -> 272.76545 | L30: =_xlfn.XLOOKUP(B30,[7]打印格式!$B$1:$B$65536,[7]打印格式!$H$1:$H$65536) -> 自费 | N30: 治疗费
A31: 27 | B31: 012406000010000 | C31: 牙髓活力测验费 | D31: 通过设备检查评估牙髓活力状态。 | E31: 所定价格涵盖准备、隔离、测验、评估、处理用物等步骤所需的人力资源和基本物质资源消耗。 | F31: 牙 | H31: 7.8 | I31: 7.0727273 | J31: 6.7 | K31: =I31*0.9 -> 6.3654545 | L31: =_xlfn.XLOOKUP(B31,[7]打印格式!$B$1:$B$65536,[7]打印格式!$H$1:$H$65536) -> 乙类 | N31: 检查费
A32: 28 | B32: 013105010010000 | C32: 橡皮障隔离费 | D32: 通过专用的橡皮障套装隔开接受治疗的牙齿与口腔。 | E32: 所定价格涵盖准备、隔离、处理用物等步骤所需的人力资源和基本物质资源消耗。 | F32: 次 | H32: 19.9 | I32: 18.072727 | J32: 17.2 | K32: =I32*0.9 -> 16.265455 | L32: =_xlfn.XLOOKUP(B32,[7]打印格式!$B$1:$B$65536,[7]打印格式!$H$1:$H$65536) -> 自费 | N32: 治疗费
A33: 29 | B33: 013105010020000 | C33: 牙体开髓引流费 | D33: 对于牙髓急症患者仅行开髓引流、牙髓摘除以缓解急性疼痛。 | E33: 所定价格涵盖准备、开髓、拔髓、处理用物等步骤所需的人力资源和基本物质资源消耗。 | F33: 牙 | G33: 仅限于牙髓急症患者应急处置时收费，在其他牙髓治疗中作为相关项目的价格构成，不单独收费。 | H33: 66 | I33: 60 | J33: 57 | K33: =I33*0.9 -> 54 | L33: =_xlfn.XLOOKUP(B33,[7]打印格式!$B$1:$B$65536,[7]打印格式!$H$1:$H$65536) -> 甲类 | N33: 治疗费
A34: 30 | B34: 013105010020001 | C34: 牙体开髓引流费-儿童（加收） | F34: 牙 | G34: 仅限于牙髓急症患者应急处置时收费，在其他牙髓治疗中作为相关项目的价格构成，不单独收费。 | H34: 13.2 | I34: 12 | J34: =I34*0.95 -> 11.4 | K34: =I34*0.9 -> 10.8 | L34: =_xlfn.XLOOKUP(B34,[7]打印格式!$B$1:$B$65536,[7]打印格式!$H$1:$H$65536) -> 甲类 | N34: 治疗费
A35: 31 | B35: 013105010030000 | C35: 牙髓失活费 | D35: 通过失活剂去除牙髓的活性。 | E35: 所定价格涵盖准备、开髓、放置失活剂、处理用物等步骤所需的人力资源和基本物质资源消耗。 | F35: 牙 | H35: 40.81 | I35: 37.1 | J35: 35.245 | K35: =I35*0.9 -> 33.39 | L35: =_xlfn.XLOOKUP(B35,[7]打印格式!$B$1:$B$65536,[7]打印格式!$H$1:$H$65536) -> 甲类 | N35: 治疗费
A36: 32 | B36: 013105010030001 | C36: 牙髓失活费-儿童（加收） | F36: 牙 | H36: 8.162 | I36: 7.42 | J36: =I36*0.95 -> 7.049 | K36: =I36*0.9 -> 6.678 | L36: =_xlfn.XLOOKUP(B36,[7]打印格式!$B$1:$B$65536,[7]打印格式!$H$1:$H$65536) -> 甲类 | N36: 治疗费
A37: 33 | B37: 013105010040000 | C37: 干髓治疗费 | D37: 通过干髓剂使牙髓保持干尸化。 | E37: 所定价格涵盖准备、开髓、去除冠髓、放置干髓剂、处理用物等步骤所需的人力资源和基本物质资源消耗。 | F37: 牙 | H37: 10 | I37: 9.0909091 | J37: 8.6 | K37: =I37*0.9 -> 8.1818182 | L37: =_xlfn.XLOOKUP(B37,[7]打印格式!$B$1:$B$65536,[7]打印格式!$H$1:$H$65536) -> 甲类 | N37: 治疗费
A38: 34 | B38: 013105010050000 | C38: 根管预备费 | D38: 通过清理扩大根管，清除感染坏死牙髓组织，对根管内部进行清理成形。 | E38: 所定价格涵盖准备、开髓、拔髓、疏通、测量、预备、处理用物等步骤所需的人力资源和基本物质资源消耗。 | F38: 根管 | G38: 1.本项目所称“根管异常”指：中重度弯曲根管、C型根管、根管间交通枝等特殊根管。 2.二级医院显微根管治疗术收取200元，其他医院按等级浮动。 | H38: =I38*1.1 -> 101.288 | I38: 92.08 | J38: =I38*0.95 -> 87.476 | K38: =I38*0.9 -> 82.872 | L38: =_xlfn.XLOOKUP(B38,[7]打印格式!$B$1:$B$65536,[7]打印格式!$H$1:$H$65536) -> 甲类 | N38: 治疗费
A39: 35 | B39: 013105010050001 | C39: 根管预备费-儿童（加收） | F39: 根管 | G39: 本项目所称“根管异常”指：中重度弯曲根管、C型根管、根管间交通枝等特殊根管。 | H39: =H38*0.2 -> 20.2576 | I39: =I38*0.2 -> 18.416 | J39: =J38*0.2 -> 17.4952 | K39: =I39*0.9 -> 16.5744 | L39: =_xlfn.XLOOKUP(B39,[7]打印格式!$B$1:$B$65536,[7]打印格式!$H$1:$H$65536) -> 甲类 | N39: 治疗费
A40: 36 | B40: 013105010050011 | C40: 根管预备费-根管异常（加收） | F40: 根管 | G40: 本项目所称“根管异常”指：中重度弯曲根管、C型根管、根管间交通枝等特殊根管。 | H40: =H38*0.6 -> 60.7728 | I40: =I38*0.6 -> 55.248 | J40: =J38*0.6 -> 52.4856 | K40: =I40*0.9 -> 49.7232 | L40: =_xlfn.XLOOKUP(B40,[7]打印格式!$B$1:$B$65536,[7]打印格式!$H$1:$H$65536) -> 乙类 | N40: 治疗费
A41: 37 | B41: 013105010060000 | C41: 根管冲洗费 | D41: 对根管进行冲洗消毒及感染控制。 | E41: 所定价格涵盖准备、冲洗、处理用物等步骤所需的人力资源和基本物质资源消耗。 | F41: 根管 | H41: 19.6 | I41: 17.8 | J41: 16.9 | K41: =I41*0.9 -> 16.02 | L41: =_xlfn.XLOOKUP(B41,[7]打印格式!$B$1:$B$65536,[7]打印格式!$H$1:$H$65536) -> 甲类 | N41: 治疗费
A42: 38 | B42: 013105010060100 | C42: 根管冲洗费-根管封药费（扩展） | F42: 根管 | H42: 19.6 | I42: 17.8 | J42: =I42*0.95 -> 16.91 | K42: =I42*0.9 -> 16.02 | L42: =_xlfn.XLOOKUP(B42,[7]打印格式!$B$1:$B$65536,[7]打印格式!$H$1:$H$65536) -> 自费 | N42: 治疗费
A43: 39 | B43: 013105010070000 | C43: 根管充填费 | D43: 通过向根管内充填，封闭根管系统。 | E43: 所定价格涵盖准备、充填、处理用物，必要时加压充填等步骤所需的人力资源和基本物质资源消耗。 | F43: 根管 | G43: 1.本项目所称“根管异常”指：中重度弯曲根管、C型根管、根管间交通枝等特殊根管。 2.二级医院显微根管治疗术收取200元，其他医院按等级浮动。 | H43: 46.167 | I43: 41.97 | J43: 39.8715 | K43: =I43*0.9 -> 37.773 | L43: =_xlfn.XLOOKUP(B43,[7]打印格式!$B$1:$B$65536,[7]打印格式!$H$1:$H$65536) -> 乙类 | N43: 治疗费
A44: 40 | B44: 013105010070001 | C44: 根管充填费-儿童（加收） | F44: 根管 | G44: 本项目所称“根管异常”指：中重度弯曲根管、C型根管、根管间交通枝等特殊根管。 | H44: =H43*0.2 -> 9.2334 | I44: =I43*0.2 -> 8.394 | J44: =J43*0.2 -> 7.9743 | K44: =I44*0.9 -> 7.5546 | L44: =_xlfn.XLOOKUP(B44,[7]打印格式!$B$1:$B$65536,[7]打印格式!$H$1:$H$65536) -> 乙类 | N44: 治疗费
...

Sheet 附件6-拟停用口腔类医疗服务价格项目表
A1: 附件6 | B1: 拟停用口腔类医疗服务价格项目表
A2: 序号 | B2: 项目编码 | C2: 项目名称 | D2: 医保结算编码
A3: 1 | B3: 3105.01 | C3: 真空压力蒸气灭菌手机消毒成本费 | D3: 003105000000001-3105.01
A4: 2 | B4: 310501001 | C4: 全口牙病系统检查与治疗设计 | D4: 003105010010000-310501001
A5: 3 | B5: 310501001.01 | C5: 全口牙病系统检查与治疗设计(牙周专业检查加收) | D5: 003105010010001-310501001.01
A6: 4 | B6: 310501002 | C6: 咬合检查 | D6: 003105010020000-310501002
A7: 5 | B7: 310501003 | C7: 颌力测量检查 | D7: 003105010030000-310501003
A8: 6 | B8: 310501004 | C8: 咀嚼功能检查 | D8: 003105010040000-310501004
A9: 7 | B9: 310501005 | C9: 下颌运动检查 | D9: 003105010050000-310501005
A10: 8 | B10: 310501005.10 | C10: 下颌运动检查(髁状突运动轨迹描记) | D10: 003105010050100-310501005.10
A11: 9 | B11: FHL02401 | C11: 唾液流量测定 | D11: 003105010060000-FHL02401
A12: 10 | B12: 310501007 | C12: 口腔模型制备 | D12: 003105010070000-310501007
A13: 11 | B13: 310501008 | C13: 记存模型制备 | D13: 003105010080000-310501008
A14: 12 | B14: 310501009 | C14: 面部模型制备 | D14: 003105010090000-310501009
... A478: 476 | B478: 310508002 | C478: 测色仪检查 | D478: 003105080020000-310508002

Sheet 附件7-口腔类医疗服务项目映射表
A1: 附件7 | B1: 口腔类医疗服务项目整合映射关系表
A2: 立项指南口腔类医疗服务价格项目 | E2: 医保医疗服务项目分类与代码 | I2: 国家卫健委2023版技术规范项目 | M2: 映射现行重庆项目
E3: 同主项目/扩展项/加收项收取 | G3: 纳入价格构成 | I3: 同主项目/扩展项/加收项收取 | K3: 纳入价格构成 | M3: 现行重庆项目 | O3: 纳入价格构成
A4: 序号 | B4: 项目编码 | C4: 项目名称 | D4: 计价单位 | E4: 项目编码 | F4: 项目名称 | G4: 项目编码 | H4: 项目名称 | I4: 项目编码 | J4: 项目名称 | K4: 项目编码 | L4: 项目名称 | M4: 重新映射编码 | N4: 重新映射名称 | O4: 项目编码 | P4: 项目名称
A5: 1 | B5: 013105020010000 | C5: 乳牙期错合矫治费（常规） | D5: 疗程 | E5: 3105220010000 3105220010001 3105220010100 3105220010200 3105220050000 3105220050100 3105220050200 3105070030000 3105070040000 3105070050000 3105070060000 3105070060001 3105070060100 | F5: 乳牙期安氏I类错合正畸治疗 乳牙期安氏I类错合正畸治疗（前牙或后牙开合加收） 乳牙期安氏I类错合正畸治疗（含乳牙早失、乳前牙反合的矫治） 乳牙期安氏I类错合正畸治疗（使用间隙保持器、活动矫治器） 乳牙期安氏II类错合正畸治疗 乳牙期安氏II类错合正畸治疗（乳牙早失、上頦前突、乳前牙反合的矫治） 乳牙期安氏II类错合正畸治疗（使用间隙保持器、活动矫治器治疗） 固定矫治器复诊处置 活动矫治器复诊处置 功能矫治器复诊处置 特殊矫治器复诊处置 特殊矫治器复诊处置（使用舌侧矫正器加收） 特殊矫治器复诊处置（推杆式矫治） | G5: 3105120050000 3105120060000 3105120070000 3105120070100 3105120070200 | H5: 制戴固定式缺隙保持器 制戴活动式缺隙保持器 制戴活动矫正器 制戴活动矫正器（乳牙列部分错合畸形的矫治） 制戴活动矫正器（混合牙列部分错合畸形的矫治） | I5: KHS4F713 KHN4G401 KHJ4G402 KHS4G401 KHS4G402 KHS4G403 KHS4G448 KHW4G401 KHW4G402 KHS4G409 KHS4G418 KHS4G434 | J5: 阻生磨牙矫治 错合畸形唇腭裂序列正畸治疗 错合畸形颞下颌关节紊乱病正畸治疗 错合畸形复杂咬合创伤正畸治疗 复杂咬合创伤正畸治疗 正颌外科手术前后正畸治疗 错合畸形伴牙周病活动矫治器正畸治疗 错合畸形牙周病正畸治疗 错合畸形伴重度牙周病正畸治疗 乳牙期安氏Ⅰ类错合正畸治疗 乳牙期安氏Ⅱ类错合正畸治疗 乳牙期安氏Ⅲ类错合正畸治疗 | K5: KHS3G405 KHS3G404 KHS3G403 KHS3G402 KHS3G401 KHE4D401 KHE4F701 KHM4D401 KHM4F401 KHM4K401 KHN4A702 KHT4B703 KHZ4A701 KHZ4A702 KHZ4A703 KHS4C402 KHS4C403 KHS4G405 KHS4G406 KHS4G407 | L5: 无托槽隐形矫治器复诊处置 功能矫治器复诊处置 活动矫治器复诊处置 固定矫治器复诊处置 舌侧固定矫治器复诊处置 颌间固定物拆除术 牵张器加力调整 矫治器拆除术 辅助性调合治疗 口腔激光治疗 唇弓制备 邻面去釉 复杂唇弓器制备 带环制备 咬合导板制备 制戴固定式缺隙保持器 制戴活动式缺隙保持器 活动正畸保持器治疗 压膜式正畸保持器治疗 固定式正畸保持器治疗 | M5: 310522001 310522001.10 310522001.20 310522005 310522005.10 310522005.20 310515007 310505001 310505001.10 310505001.20 330604025 | N5: 乳牙期安氏I类错颌正畸治疗 乳牙期安氏I类错颌正畸治疗(含乳牙早失、乳前牙反合的矫治) 乳牙期安氏I类错颌正畸治疗(使用间隙保持器、活动矫治器) 乳牙期安氏Ⅱ类错颌正畸治疗 乳牙期安氏II类错颌正畸治疗(乳牙早失、上頦前突、乳前牙反合的矫治) 乳牙期安氏II类错颌正畸治疗(使用间隙保持器、活动矫治器治疗) 腭裂术后语音训练治疗 正颌外科手术设计与面型预测 正颌外科手术设计与面型预测(VTO技术) 正颌外科手术设计与面型预测(电子计算机技术) 牙外科正畸术 | O5: 310507003 310507004 310507005 310507006 310507001 310510008 310515001 310507006.10 | P5: 固定矫治器复诊处置 活动矫治器复诊处置 功能矫治器复诊处置 特殊矫治器复诊处置 错颌畸形初检 激光口内治疗 颞下颌关节复位 特殊矫治器复诊处置(推杆式矫治)
A6: 2 | B6: 013105020020000 | C6: 乳牙期错合矫治费（复杂） | D6: 疗程 | E6: 3105220010000 3105220010001 3105220010100 3105220010200 3105220050000 3105220050100 3105220050200 3105220130000 3105220130100 3105220130200 3105070030000 3105070040000 3105070050000 3105070060000 3105070060001 3105070060100 3105220220000 3105220220200 3105220240000 3105220240100 3105220240200 3105220220100 3105220210100 3105220210200 3105220210300 3105220210400 3105210010000 3105210010001 3105210010002 | F6: 乳牙期安氏I类错合正畸治疗 乳牙期安氏I类错合正畸治疗（前牙或后牙开合加收） 乳牙期安氏I类错合正畸治疗（含乳牙早失、乳前牙反合的矫治） 乳牙期安氏I类错合正畸治疗（使用间隙保持器、活动矫治器） 乳牙期安氏II类错合正畸治疗 乳牙期安氏II类错合正畸治疗（乳牙早失、上頦前突、乳前牙反合的矫治） 乳牙期安氏II类错合正畸治疗（使用间隙保持器、活动矫治器治疗） 乳牙期安氏III类错合正畸治疗 乳牙期安氏III类错合正畸治疗（乳前牙反合） 乳牙期安氏III类错合正畸治疗（使用活动矫治器或下颌连冠式斜面导板治疗） 固定矫治器复诊处置 活动矫治器复诊处置 功能矫治器复诊处置 特殊矫治器复诊处置 特殊矫治器复诊处置（使用舌侧矫正器加收） 特殊矫治器复诊处置（推杆式矫治） 早期颜面不对称正畸治疗 早期颜面不对称正畸治疗（使用活动矫治器和固定矫治器） 颅面畸形正畸治疗 颅面畸形正畸治疗（Crouzon综合征、Apert综合征、Treacher-Collins综合征） 颅面畸形正畸治疗（用活动矫治器或固定矫治器治疗） 早期颜面不对称正畸治疗（替牙期由错合引起或颜面不对称伴错合的病例） 单侧唇腭裂序列正畸治疗（单侧牙槽突裂） 单侧唇腭裂序列正畸治疗（无骨骼畸形和面部畸形） 单侧唇腭裂序列正畸治疗（腭托使用的正畸治疗） 单侧唇腭裂序列正畸治疗（面部畸形） 腭护板导板矫治 腭护板导板矫治（加放射治疗装置加收） 腭护板导板矫治（间接法制作加收） | G6: 3105120050000 3105120060000 3105120070000 3105120070100 3105120070200 | H6: 制戴固定式缺隙保持器 制戴活动式缺隙保持器 制戴活动矫正器 制戴活动矫正器（乳牙列部分错合畸形的矫治） 制戴活动矫正器（混合牙列部分错合畸形的矫治） | I6: KHS4F713 KHA4G401 KHS4G401 KHS4G402 KHS4G403 KHS4G448 KHW4G401 KHW4G402 KHN4G402 KHJ4G401 KHS4G410 KHS4G419 KHS4G435 KHA4G402 | J6: 阻生磨牙矫治 错合畸形复杂颅颌面畸形辅助正畸治疗 错合畸形复杂咬合创伤正畸治疗 复杂咬合创伤正畸治疗 正颌外科手术前后正畸治疗 错合畸形伴牙周病活动矫治器正畸治疗 错合畸形牙周病正畸治疗 错合畸形伴重度牙周病正畸治疗 错合畸形复杂唇腭裂序列正畸治疗 错合畸形复杂颞下颌关节紊乱病正畸治疗 乳牙期复杂安氏Ⅰ类错合正畸治疗 乳牙期复杂安氏Ⅱ类错合正畸治疗 乳牙期复杂安氏Ⅲ类错合正畸治疗 乳牙期颜面不对称畸形矫形治疗 | K6: KHS3G405 KHS3G404 KHS3G403 KHS3G402 KHS3G401 KHE4D401 KHE4F701 KHM4D401 KHM4F401 KHM4K401 KHN4A702 KHT4B703 KHZ4A701 KHZ4A702 KHZ4A703 KHS4C402 KHS4C403 KHS4G405 KHS4G406 KHS4G407 | L6: 无托槽隐形矫治器复诊处置 功能矫治器复诊处置 活动矫治器复诊处置 固定矫治器复诊处置 舌侧固定矫治器复诊处置 颌间固定物拆除术 牵张器加力调整 矫治器拆除术 辅助性调合治疗 口腔激光治疗 唇弓制备 邻面去釉 复杂唇弓器制备 带环制备 咬合导板制备 制戴固定式缺隙保持器 制戴活动式缺隙保持器 活动正畸保持器治疗 压膜式正畸保持器治疗 固定式正畸保持器治疗 | M6: 310522001 310522001.10 310522001.20 310522005 310522005.10 310522005.20 310522013 310522013.10 310522013.20 310522022 310522022.20 310522024 310522024.10 310522024.20 310522022.10 310522021.10 310522021.20 310522021.30 310522021.40 | N6: 乳牙期安氏I类错颌正畸治疗 乳牙期安氏I类错颌正畸治疗(含乳牙早失、乳前牙反合的矫治) 乳牙期安氏I类错颌正畸治疗(使用间隙保持器、活动矫治器) 乳牙期安氏Ⅱ类错颌正畸治疗 乳牙期安氏II类错颌正畸治疗(乳牙早失、上頦前突、乳前牙反合的矫治) 乳牙期安氏II类错颌正畸治疗(使用间隙保持器、活动矫治器治疗) 乳牙期安氏Ⅲ类错颌正畸治疗 乳牙期安氏III类错颌正畸治疗(乳前牙反合) 乳牙期安氏III类错颌正畸治疗(使用活动矫治器或下颌连冠式斜面导板治疗) 早期颜面不对称正畸治疗 早期颜面不对称正畸治疗(使用活动矫治器和固定矫治器) 颅面畸形正畸治疗 颅面畸形正畸治疗(Crouzon综合征、Apert综合征、Treacher-Collins综合征) 颅面畸形正畸治疗(用活动矫治器或固定矫治器治疗) 早期颜面不对称正畸治疗(替牙期由错颌引起或颜面不对称伴错颌的病例) 单侧唇腭裂序列正畸治疗(单侧牙槽突裂) 单侧唇腭裂序列正畸治疗(无骨骼畸形和面部畸形) 单侧唇腭裂序列正畸治疗(腭托使用的正畸治疗) 侧唇腭裂序列正畸治疗(面部畸形) | O6: 310507003 310507004 310507005 310507006 310507006.10 310521001 310521001.02 310521001.01 | P6: 固定矫治器复诊处置 活动矫治器复诊处置 功能矫治器复诊处置 特殊矫治器复诊处置 特殊矫治器复诊处置(推杆式矫治) 腭护板导板矫治 腭护板导板矫治(加放射治疗装置加收) 腭护板导板矫治(间接法制作加收)
A7: 3 | B7: 013105020030000 | C7: 替牙期Ⅰ类错合矫治费（常规） | D7: 疗程 | E7: 3105220020000 3105220020100 3105220020200 3105220030000 3105220030100 3105220030200 3105220280000 3105070030000 3105070040000 3105070050000 3105070060000 3105070060001 3105070060100 | F7: 替牙期安氏I类错合活动矫治器正畸治疗 替牙期安氏I类错合活动矫治器正畸治疗（替牙障碍） 替牙期安氏I类错合活动矫治器正畸治疗（不良口腔习惯的矫治） 替牙期安氏I类错合固定矫治器正畸治疗 替牙期安氏I类错合固定矫治器正畸治疗（使用简单固定矫治器） 替牙期安氏I类错合固定矫治器正畸治疗（使用常规固定矫治器治疗） 正畸保持器治疗 固定矫治器复诊处置 活动矫治器复诊处置 功能矫治器复诊处置 特殊矫治器复诊处置 特殊矫治器复诊处置（使用舌侧矫正器加收） 特殊矫治器复诊处置（推杆式矫治） | G7: 3105120050000 3105120060000 3105120070000 3105120070200 3105070070000 | H7: 制戴固定式缺隙保持器 制戴活动式缺隙保持器 制戴活动矫正器 制戴活动矫正器（混合牙列部分错合畸形的矫治） 错合畸形正中合位检查 | I7: KHS4F713 KHN4G401 KHJ4G402 KHS4G401 KHS4G402 KHS4G403 KHS4G448 KHW4G401 KHW4G402 KHS4G411 KHS4G412 | J7: 阻生磨牙矫治 错合畸形唇腭裂序列正畸治疗 错合畸形颞下颌关节紊乱病正畸治疗 错合畸形复杂咬合创伤正畸治疗 复杂咬合创伤正畸治疗 正颌外科手术前后正畸治疗 错合畸形伴牙周病活动矫治器正畸治疗 错合畸形牙周病正畸治疗 错合畸形伴重度牙周病正畸治疗 替牙期安氏Ⅰ类错合活动矫治器正畸治疗 替牙期安氏Ⅰ类错合固定矫治器正畸治疗 | K7: KHS3G405 KHS3G404 KHS3G403 KHS3G402 KHS3G401 KHE4D401 KHE4F701 KHM4D401 KHM4F401 KHM4K401 KHN4A702 KHT4B703 KHZ4A701 KHZ4A702 KHZ4A703 KHS4C402 KHS4C403 KHS4G405 KHS4G406 KHS4G407 | L7: 无托槽隐形矫治器复诊处置 功能矫治器复诊处置 活动矫治器复诊处置 固定矫治器复诊处置 舌侧固定矫治器复诊处置 颌间固定物拆除术 牵张器加力调整 矫治器拆除术 辅助性调合治疗 口腔激光治疗 唇弓制备 邻面去釉 复杂唇弓器制备 带环制备 咬合导板制备 制戴固定式缺隙保持器 制戴活动式缺隙保持器 活动正畸保持器治疗 压膜式正畸保持器治疗 固定式正畸保持器治疗 | M7: 310522002 310522002.10 310522002.20 310522003 310522003.10 310522003.20 | N7: 替牙期安氏I类错颌活动矫治器正畸治疗 替牙期安氏I类错颌活动矫治器正畸治疗(替牙障碍) 替牙期安氏I类错颌活动矫治器正畸治疗(不良口腔习惯的矫治) 替牙期安氏I类错颌固定矫治器正畸治疗 替牙期安氏I类错颌固定矫治器正畸治疗(使用简单固定矫治器) 替牙期安氏I类错颌固定矫治器正畸治疗(使用常规固定矫治器治疗) | O7: 310522028 310507003 310507004 310507005 310507006 310507006.10 | P7: 正畸保持器治疗 固定矫治器复诊处置 活动矫治器复诊处置 功能矫治器复诊处置 特殊矫治器复诊处置 特殊矫治器复诊处置(推杆式矫治)
